BEGIN:VCALENDAR
VERSION:2.0
PRODID:-//The Red House - ECPv6.15.15//NONSGML v1.0//EN
CALSCALE:GREGORIAN
METHOD:PUBLISH
X-WR-CALNAME:The Red House
X-ORIGINAL-URL:https://www.red-house-albrighton.org.uk
X-WR-CALDESC:Events for The Red House
REFRESH-INTERVAL;VALUE=DURATION:PT1H
X-Robots-Tag:noindex
X-PUBLISHED-TTL:PT1H
BEGIN:VTIMEZONE
TZID:Europe/London
BEGIN:DAYLIGHT
TZOFFSETFROM:+0000
TZOFFSETTO:+0100
TZNAME:BST
DTSTART:20290325T010000
END:DAYLIGHT
BEGIN:STANDARD
TZOFFSETFROM:+0100
TZOFFSETTO:+0000
TZNAME:GMT
DTSTART:20291028T010000
END:STANDARD
BEGIN:DAYLIGHT
TZOFFSETFROM:+0000
TZOFFSETTO:+0100
TZNAME:BST
DTSTART:20300331T010000
END:DAYLIGHT
BEGIN:STANDARD
TZOFFSETFROM:+0100
TZOFFSETTO:+0000
TZNAME:GMT
DTSTART:20301027T010000
END:STANDARD
BEGIN:DAYLIGHT
TZOFFSETFROM:+0000
TZOFFSETTO:+0100
TZNAME:BST
DTSTART:20310330T010000
END:DAYLIGHT
BEGIN:STANDARD
TZOFFSETFROM:+0100
TZOFFSETTO:+0000
TZNAME:GMT
DTSTART:20311026T010000
END:STANDARD
BEGIN:DAYLIGHT
TZOFFSETFROM:+0000
TZOFFSETTO:+0100
TZNAME:BST
DTSTART:20320328T010000
END:DAYLIGHT
BEGIN:STANDARD
TZOFFSETFROM:+0100
TZOFFSETTO:+0000
TZNAME:GMT
DTSTART:20321031T010000
END:STANDARD
END:VTIMEZONE
BEGIN:VEVENT
DTSTART;TZID=Europe/London:20301025T093000
DTEND;TZID=Europe/London:20301025T233000
DTSTAMP:20260425T123858
CREATED:20190917T170226Z
LAST-MODIFIED:20190917T170320Z
UID:10003063-1919151000-1919201400@www.red-house-albrighton.org.uk
SUMMARY:Automatic Defibrillator and CPR training
DESCRIPTION:Did you know that following a cardiac arrest\, every minute without CPR and defibrillation reduces a casualty’s chance of survival by 10%?\nSudden cardiac arrest is one the UK’s biggest killers\, and yet statistics show that most of the British public are unaware of the life-saving difference they can make by performing CPR and defibrillation. \nThis course will cover the following subjects\nChain of survival\, Assessing an incident\,Casualty assessment\,Managing an unresponsive casualty\,Recovery Position\, CPR\,AED safety considerations\, using an AED\, Combining AED use with CPR
URL:https://www.red-house-albrighton.org.uk/event/automatic-defibrillator-and-cpr-training/2030-10-25/
LOCATION:The Red House\, Albrighton\, Shropshire\, WV7 3LU\, United Kingdom
CATEGORIES:Training
ATTACH;FMTTYPE=image/png:https://www.red-house-albrighton.org.uk/wp-content/uploads/2019/09/defib.png
ORGANIZER;CN="Mattinson Training":MAILTO:info@mattinsontrainingltd.co.uk
END:VEVENT
BEGIN:VEVENT
DTSTART;TZID=Europe/London:20301101T093000
DTEND;TZID=Europe/London:20301101T233000
DTSTAMP:20260425T123858
CREATED:20190917T170226Z
LAST-MODIFIED:20190917T170320Z
UID:10003064-1919755800-1919806200@www.red-house-albrighton.org.uk
SUMMARY:Automatic Defibrillator and CPR training
DESCRIPTION:Did you know that following a cardiac arrest\, every minute without CPR and defibrillation reduces a casualty’s chance of survival by 10%?\nSudden cardiac arrest is one the UK’s biggest killers\, and yet statistics show that most of the British public are unaware of the life-saving difference they can make by performing CPR and defibrillation. \nThis course will cover the following subjects\nChain of survival\, Assessing an incident\,Casualty assessment\,Managing an unresponsive casualty\,Recovery Position\, CPR\,AED safety considerations\, using an AED\, Combining AED use with CPR
URL:https://www.red-house-albrighton.org.uk/event/automatic-defibrillator-and-cpr-training/2030-11-01/
LOCATION:The Red House\, Albrighton\, Shropshire\, WV7 3LU\, United Kingdom
CATEGORIES:Training
ATTACH;FMTTYPE=image/png:https://www.red-house-albrighton.org.uk/wp-content/uploads/2019/09/defib.png
ORGANIZER;CN="Mattinson Training":MAILTO:info@mattinsontrainingltd.co.uk
END:VEVENT
BEGIN:VEVENT
DTSTART;TZID=Europe/London:20301108T093000
DTEND;TZID=Europe/London:20301108T233000
DTSTAMP:20260425T123858
CREATED:20190917T170226Z
LAST-MODIFIED:20190917T170320Z
UID:10003065-1920360600-1920411000@www.red-house-albrighton.org.uk
SUMMARY:Automatic Defibrillator and CPR training
DESCRIPTION:Did you know that following a cardiac arrest\, every minute without CPR and defibrillation reduces a casualty’s chance of survival by 10%?\nSudden cardiac arrest is one the UK’s biggest killers\, and yet statistics show that most of the British public are unaware of the life-saving difference they can make by performing CPR and defibrillation. \nThis course will cover the following subjects\nChain of survival\, Assessing an incident\,Casualty assessment\,Managing an unresponsive casualty\,Recovery Position\, CPR\,AED safety considerations\, using an AED\, Combining AED use with CPR
URL:https://www.red-house-albrighton.org.uk/event/automatic-defibrillator-and-cpr-training/2030-11-08/
LOCATION:The Red House\, Albrighton\, Shropshire\, WV7 3LU\, United Kingdom
CATEGORIES:Training
ATTACH;FMTTYPE=image/png:https://www.red-house-albrighton.org.uk/wp-content/uploads/2019/09/defib.png
ORGANIZER;CN="Mattinson Training":MAILTO:info@mattinsontrainingltd.co.uk
END:VEVENT
BEGIN:VEVENT
DTSTART;TZID=Europe/London:20301115T093000
DTEND;TZID=Europe/London:20301115T233000
DTSTAMP:20260425T123858
CREATED:20190917T170226Z
LAST-MODIFIED:20190917T170320Z
UID:10003066-1920965400-1921015800@www.red-house-albrighton.org.uk
SUMMARY:Automatic Defibrillator and CPR training
DESCRIPTION:Did you know that following a cardiac arrest\, every minute without CPR and defibrillation reduces a casualty’s chance of survival by 10%?\nSudden cardiac arrest is one the UK’s biggest killers\, and yet statistics show that most of the British public are unaware of the life-saving difference they can make by performing CPR and defibrillation. \nThis course will cover the following subjects\nChain of survival\, Assessing an incident\,Casualty assessment\,Managing an unresponsive casualty\,Recovery Position\, CPR\,AED safety considerations\, using an AED\, Combining AED use with CPR
URL:https://www.red-house-albrighton.org.uk/event/automatic-defibrillator-and-cpr-training/2030-11-15/
LOCATION:The Red House\, Albrighton\, Shropshire\, WV7 3LU\, United Kingdom
CATEGORIES:Training
ATTACH;FMTTYPE=image/png:https://www.red-house-albrighton.org.uk/wp-content/uploads/2019/09/defib.png
ORGANIZER;CN="Mattinson Training":MAILTO:info@mattinsontrainingltd.co.uk
END:VEVENT
BEGIN:VEVENT
DTSTART;TZID=Europe/London:20301122T093000
DTEND;TZID=Europe/London:20301122T233000
DTSTAMP:20260425T123858
CREATED:20190917T170226Z
LAST-MODIFIED:20190917T170320Z
UID:10003067-1921570200-1921620600@www.red-house-albrighton.org.uk
SUMMARY:Automatic Defibrillator and CPR training
DESCRIPTION:Did you know that following a cardiac arrest\, every minute without CPR and defibrillation reduces a casualty’s chance of survival by 10%?\nSudden cardiac arrest is one the UK’s biggest killers\, and yet statistics show that most of the British public are unaware of the life-saving difference they can make by performing CPR and defibrillation. \nThis course will cover the following subjects\nChain of survival\, Assessing an incident\,Casualty assessment\,Managing an unresponsive casualty\,Recovery Position\, CPR\,AED safety considerations\, using an AED\, Combining AED use with CPR
URL:https://www.red-house-albrighton.org.uk/event/automatic-defibrillator-and-cpr-training/2030-11-22/
LOCATION:The Red House\, Albrighton\, Shropshire\, WV7 3LU\, United Kingdom
CATEGORIES:Training
ATTACH;FMTTYPE=image/png:https://www.red-house-albrighton.org.uk/wp-content/uploads/2019/09/defib.png
ORGANIZER;CN="Mattinson Training":MAILTO:info@mattinsontrainingltd.co.uk
END:VEVENT
BEGIN:VEVENT
DTSTART;TZID=Europe/London:20301129T093000
DTEND;TZID=Europe/London:20301129T233000
DTSTAMP:20260425T123858
CREATED:20190917T170226Z
LAST-MODIFIED:20190917T170320Z
UID:10003068-1922175000-1922225400@www.red-house-albrighton.org.uk
SUMMARY:Automatic Defibrillator and CPR training
DESCRIPTION:Did you know that following a cardiac arrest\, every minute without CPR and defibrillation reduces a casualty’s chance of survival by 10%?\nSudden cardiac arrest is one the UK’s biggest killers\, and yet statistics show that most of the British public are unaware of the life-saving difference they can make by performing CPR and defibrillation. \nThis course will cover the following subjects\nChain of survival\, Assessing an incident\,Casualty assessment\,Managing an unresponsive casualty\,Recovery Position\, CPR\,AED safety considerations\, using an AED\, Combining AED use with CPR
URL:https://www.red-house-albrighton.org.uk/event/automatic-defibrillator-and-cpr-training/2030-11-29/
LOCATION:The Red House\, Albrighton\, Shropshire\, WV7 3LU\, United Kingdom
CATEGORIES:Training
ATTACH;FMTTYPE=image/png:https://www.red-house-albrighton.org.uk/wp-content/uploads/2019/09/defib.png
ORGANIZER;CN="Mattinson Training":MAILTO:info@mattinsontrainingltd.co.uk
END:VEVENT
BEGIN:VEVENT
DTSTART;TZID=Europe/London:20301206T093000
DTEND;TZID=Europe/London:20301206T233000
DTSTAMP:20260425T123858
CREATED:20190917T170226Z
LAST-MODIFIED:20190917T170320Z
UID:10003069-1922779800-1922830200@www.red-house-albrighton.org.uk
SUMMARY:Automatic Defibrillator and CPR training
DESCRIPTION:Did you know that following a cardiac arrest\, every minute without CPR and defibrillation reduces a casualty’s chance of survival by 10%?\nSudden cardiac arrest is one the UK’s biggest killers\, and yet statistics show that most of the British public are unaware of the life-saving difference they can make by performing CPR and defibrillation. \nThis course will cover the following subjects\nChain of survival\, Assessing an incident\,Casualty assessment\,Managing an unresponsive casualty\,Recovery Position\, CPR\,AED safety considerations\, using an AED\, Combining AED use with CPR
URL:https://www.red-house-albrighton.org.uk/event/automatic-defibrillator-and-cpr-training/2030-12-06/
LOCATION:The Red House\, Albrighton\, Shropshire\, WV7 3LU\, United Kingdom
CATEGORIES:Training
ATTACH;FMTTYPE=image/png:https://www.red-house-albrighton.org.uk/wp-content/uploads/2019/09/defib.png
ORGANIZER;CN="Mattinson Training":MAILTO:info@mattinsontrainingltd.co.uk
END:VEVENT
BEGIN:VEVENT
DTSTART;TZID=Europe/London:20301213T093000
DTEND;TZID=Europe/London:20301213T233000
DTSTAMP:20260425T123858
CREATED:20190917T170226Z
LAST-MODIFIED:20190917T170320Z
UID:10003070-1923384600-1923435000@www.red-house-albrighton.org.uk
SUMMARY:Automatic Defibrillator and CPR training
DESCRIPTION:Did you know that following a cardiac arrest\, every minute without CPR and defibrillation reduces a casualty’s chance of survival by 10%?\nSudden cardiac arrest is one the UK’s biggest killers\, and yet statistics show that most of the British public are unaware of the life-saving difference they can make by performing CPR and defibrillation. \nThis course will cover the following subjects\nChain of survival\, Assessing an incident\,Casualty assessment\,Managing an unresponsive casualty\,Recovery Position\, CPR\,AED safety considerations\, using an AED\, Combining AED use with CPR
URL:https://www.red-house-albrighton.org.uk/event/automatic-defibrillator-and-cpr-training/2030-12-13/
LOCATION:The Red House\, Albrighton\, Shropshire\, WV7 3LU\, United Kingdom
CATEGORIES:Training
ATTACH;FMTTYPE=image/png:https://www.red-house-albrighton.org.uk/wp-content/uploads/2019/09/defib.png
ORGANIZER;CN="Mattinson Training":MAILTO:info@mattinsontrainingltd.co.uk
END:VEVENT
BEGIN:VEVENT
DTSTART;TZID=Europe/London:20301220T093000
DTEND;TZID=Europe/London:20301220T233000
DTSTAMP:20260425T123858
CREATED:20190917T170226Z
LAST-MODIFIED:20190917T170320Z
UID:10003071-1923989400-1924039800@www.red-house-albrighton.org.uk
SUMMARY:Automatic Defibrillator and CPR training
DESCRIPTION:Did you know that following a cardiac arrest\, every minute without CPR and defibrillation reduces a casualty’s chance of survival by 10%?\nSudden cardiac arrest is one the UK’s biggest killers\, and yet statistics show that most of the British public are unaware of the life-saving difference they can make by performing CPR and defibrillation. \nThis course will cover the following subjects\nChain of survival\, Assessing an incident\,Casualty assessment\,Managing an unresponsive casualty\,Recovery Position\, CPR\,AED safety considerations\, using an AED\, Combining AED use with CPR
URL:https://www.red-house-albrighton.org.uk/event/automatic-defibrillator-and-cpr-training/2030-12-20/
LOCATION:The Red House\, Albrighton\, Shropshire\, WV7 3LU\, United Kingdom
CATEGORIES:Training
ATTACH;FMTTYPE=image/png:https://www.red-house-albrighton.org.uk/wp-content/uploads/2019/09/defib.png
ORGANIZER;CN="Mattinson Training":MAILTO:info@mattinsontrainingltd.co.uk
END:VEVENT
BEGIN:VEVENT
DTSTART;TZID=Europe/London:20301227T093000
DTEND;TZID=Europe/London:20301227T233000
DTSTAMP:20260425T123858
CREATED:20190917T170226Z
LAST-MODIFIED:20190917T170320Z
UID:10003072-1924594200-1924644600@www.red-house-albrighton.org.uk
SUMMARY:Automatic Defibrillator and CPR training
DESCRIPTION:Did you know that following a cardiac arrest\, every minute without CPR and defibrillation reduces a casualty’s chance of survival by 10%?\nSudden cardiac arrest is one the UK’s biggest killers\, and yet statistics show that most of the British public are unaware of the life-saving difference they can make by performing CPR and defibrillation. \nThis course will cover the following subjects\nChain of survival\, Assessing an incident\,Casualty assessment\,Managing an unresponsive casualty\,Recovery Position\, CPR\,AED safety considerations\, using an AED\, Combining AED use with CPR
URL:https://www.red-house-albrighton.org.uk/event/automatic-defibrillator-and-cpr-training/2030-12-27/
LOCATION:The Red House\, Albrighton\, Shropshire\, WV7 3LU\, United Kingdom
CATEGORIES:Training
ATTACH;FMTTYPE=image/png:https://www.red-house-albrighton.org.uk/wp-content/uploads/2019/09/defib.png
ORGANIZER;CN="Mattinson Training":MAILTO:info@mattinsontrainingltd.co.uk
END:VEVENT
BEGIN:VEVENT
DTSTART;TZID=Europe/London:20310103T093000
DTEND;TZID=Europe/London:20310103T233000
DTSTAMP:20260425T123858
CREATED:20190917T170226Z
LAST-MODIFIED:20190917T170320Z
UID:10003073-1925199000-1925249400@www.red-house-albrighton.org.uk
SUMMARY:Automatic Defibrillator and CPR training
DESCRIPTION:Did you know that following a cardiac arrest\, every minute without CPR and defibrillation reduces a casualty’s chance of survival by 10%?\nSudden cardiac arrest is one the UK’s biggest killers\, and yet statistics show that most of the British public are unaware of the life-saving difference they can make by performing CPR and defibrillation. \nThis course will cover the following subjects\nChain of survival\, Assessing an incident\,Casualty assessment\,Managing an unresponsive casualty\,Recovery Position\, CPR\,AED safety considerations\, using an AED\, Combining AED use with CPR
URL:https://www.red-house-albrighton.org.uk/event/automatic-defibrillator-and-cpr-training/2031-01-03/
LOCATION:The Red House\, Albrighton\, Shropshire\, WV7 3LU\, United Kingdom
CATEGORIES:Training
ATTACH;FMTTYPE=image/png:https://www.red-house-albrighton.org.uk/wp-content/uploads/2019/09/defib.png
ORGANIZER;CN="Mattinson Training":MAILTO:info@mattinsontrainingltd.co.uk
END:VEVENT
BEGIN:VEVENT
DTSTART;TZID=Europe/London:20310110T093000
DTEND;TZID=Europe/London:20310110T233000
DTSTAMP:20260425T123858
CREATED:20190917T170226Z
LAST-MODIFIED:20190917T170320Z
UID:10003074-1925803800-1925854200@www.red-house-albrighton.org.uk
SUMMARY:Automatic Defibrillator and CPR training
DESCRIPTION:Did you know that following a cardiac arrest\, every minute without CPR and defibrillation reduces a casualty’s chance of survival by 10%?\nSudden cardiac arrest is one the UK’s biggest killers\, and yet statistics show that most of the British public are unaware of the life-saving difference they can make by performing CPR and defibrillation. \nThis course will cover the following subjects\nChain of survival\, Assessing an incident\,Casualty assessment\,Managing an unresponsive casualty\,Recovery Position\, CPR\,AED safety considerations\, using an AED\, Combining AED use with CPR
URL:https://www.red-house-albrighton.org.uk/event/automatic-defibrillator-and-cpr-training/2031-01-10/
LOCATION:The Red House\, Albrighton\, Shropshire\, WV7 3LU\, United Kingdom
CATEGORIES:Training
ATTACH;FMTTYPE=image/png:https://www.red-house-albrighton.org.uk/wp-content/uploads/2019/09/defib.png
ORGANIZER;CN="Mattinson Training":MAILTO:info@mattinsontrainingltd.co.uk
END:VEVENT
BEGIN:VEVENT
DTSTART;TZID=Europe/London:20310117T093000
DTEND;TZID=Europe/London:20310117T233000
DTSTAMP:20260425T123858
CREATED:20190917T170226Z
LAST-MODIFIED:20190917T170320Z
UID:10003075-1926408600-1926459000@www.red-house-albrighton.org.uk
SUMMARY:Automatic Defibrillator and CPR training
DESCRIPTION:Did you know that following a cardiac arrest\, every minute without CPR and defibrillation reduces a casualty’s chance of survival by 10%?\nSudden cardiac arrest is one the UK’s biggest killers\, and yet statistics show that most of the British public are unaware of the life-saving difference they can make by performing CPR and defibrillation. \nThis course will cover the following subjects\nChain of survival\, Assessing an incident\,Casualty assessment\,Managing an unresponsive casualty\,Recovery Position\, CPR\,AED safety considerations\, using an AED\, Combining AED use with CPR
URL:https://www.red-house-albrighton.org.uk/event/automatic-defibrillator-and-cpr-training/2031-01-17/
LOCATION:The Red House\, Albrighton\, Shropshire\, WV7 3LU\, United Kingdom
CATEGORIES:Training
ATTACH;FMTTYPE=image/png:https://www.red-house-albrighton.org.uk/wp-content/uploads/2019/09/defib.png
ORGANIZER;CN="Mattinson Training":MAILTO:info@mattinsontrainingltd.co.uk
END:VEVENT
BEGIN:VEVENT
DTSTART;TZID=Europe/London:20310124T093000
DTEND;TZID=Europe/London:20310124T233000
DTSTAMP:20260425T123858
CREATED:20190917T170226Z
LAST-MODIFIED:20190917T170320Z
UID:10003076-1927013400-1927063800@www.red-house-albrighton.org.uk
SUMMARY:Automatic Defibrillator and CPR training
DESCRIPTION:Did you know that following a cardiac arrest\, every minute without CPR and defibrillation reduces a casualty’s chance of survival by 10%?\nSudden cardiac arrest is one the UK’s biggest killers\, and yet statistics show that most of the British public are unaware of the life-saving difference they can make by performing CPR and defibrillation. \nThis course will cover the following subjects\nChain of survival\, Assessing an incident\,Casualty assessment\,Managing an unresponsive casualty\,Recovery Position\, CPR\,AED safety considerations\, using an AED\, Combining AED use with CPR
URL:https://www.red-house-albrighton.org.uk/event/automatic-defibrillator-and-cpr-training/2031-01-24/
LOCATION:The Red House\, Albrighton\, Shropshire\, WV7 3LU\, United Kingdom
CATEGORIES:Training
ATTACH;FMTTYPE=image/png:https://www.red-house-albrighton.org.uk/wp-content/uploads/2019/09/defib.png
ORGANIZER;CN="Mattinson Training":MAILTO:info@mattinsontrainingltd.co.uk
END:VEVENT
BEGIN:VEVENT
DTSTART;TZID=Europe/London:20310131T093000
DTEND;TZID=Europe/London:20310131T233000
DTSTAMP:20260425T123858
CREATED:20190917T170226Z
LAST-MODIFIED:20190917T170320Z
UID:10003077-1927618200-1927668600@www.red-house-albrighton.org.uk
SUMMARY:Automatic Defibrillator and CPR training
DESCRIPTION:Did you know that following a cardiac arrest\, every minute without CPR and defibrillation reduces a casualty’s chance of survival by 10%?\nSudden cardiac arrest is one the UK’s biggest killers\, and yet statistics show that most of the British public are unaware of the life-saving difference they can make by performing CPR and defibrillation. \nThis course will cover the following subjects\nChain of survival\, Assessing an incident\,Casualty assessment\,Managing an unresponsive casualty\,Recovery Position\, CPR\,AED safety considerations\, using an AED\, Combining AED use with CPR
URL:https://www.red-house-albrighton.org.uk/event/automatic-defibrillator-and-cpr-training/2031-01-31/
LOCATION:The Red House\, Albrighton\, Shropshire\, WV7 3LU\, United Kingdom
CATEGORIES:Training
ATTACH;FMTTYPE=image/png:https://www.red-house-albrighton.org.uk/wp-content/uploads/2019/09/defib.png
ORGANIZER;CN="Mattinson Training":MAILTO:info@mattinsontrainingltd.co.uk
END:VEVENT
END:VCALENDAR