BEGIN:VCALENDAR
VERSION:2.0
PRODID:-//The Red House - ECPv6.15.15//NONSGML v1.0//EN
CALSCALE:GREGORIAN
METHOD:PUBLISH
X-ORIGINAL-URL:https://www.red-house-albrighton.org.uk
X-WR-CALDESC:Events for The Red House
REFRESH-INTERVAL;VALUE=DURATION:PT1H
X-Robots-Tag:noindex
X-PUBLISHED-TTL:PT1H
BEGIN:VTIMEZONE
TZID:Europe/London
BEGIN:DAYLIGHT
TZOFFSETFROM:+0000
TZOFFSETTO:+0100
TZNAME:BST
DTSTART:20220327T010000
END:DAYLIGHT
BEGIN:STANDARD
TZOFFSETFROM:+0100
TZOFFSETTO:+0000
TZNAME:GMT
DTSTART:20221030T010000
END:STANDARD
BEGIN:DAYLIGHT
TZOFFSETFROM:+0000
TZOFFSETTO:+0100
TZNAME:BST
DTSTART:20230326T010000
END:DAYLIGHT
BEGIN:STANDARD
TZOFFSETFROM:+0100
TZOFFSETTO:+0000
TZNAME:GMT
DTSTART:20231029T010000
END:STANDARD
BEGIN:DAYLIGHT
TZOFFSETFROM:+0000
TZOFFSETTO:+0100
TZNAME:BST
DTSTART:20240331T010000
END:DAYLIGHT
BEGIN:STANDARD
TZOFFSETFROM:+0100
TZOFFSETTO:+0000
TZNAME:GMT
DTSTART:20241027T010000
END:STANDARD
BEGIN:DAYLIGHT
TZOFFSETFROM:+0000
TZOFFSETTO:+0100
TZNAME:BST
DTSTART:20250330T010000
END:DAYLIGHT
BEGIN:STANDARD
TZOFFSETFROM:+0100
TZOFFSETTO:+0000
TZNAME:GMT
DTSTART:20251026T010000
END:STANDARD
BEGIN:DAYLIGHT
TZOFFSETFROM:+0000
TZOFFSETTO:+0100
TZNAME:BST
DTSTART:20260329T010000
END:DAYLIGHT
BEGIN:STANDARD
TZOFFSETFROM:+0100
TZOFFSETTO:+0000
TZNAME:GMT
DTSTART:20261025T010000
END:STANDARD
BEGIN:DAYLIGHT
TZOFFSETFROM:+0000
TZOFFSETTO:+0100
TZNAME:BST
DTSTART:20270328T010000
END:DAYLIGHT
BEGIN:STANDARD
TZOFFSETFROM:+0100
TZOFFSETTO:+0000
TZNAME:GMT
DTSTART:20271031T010000
END:STANDARD
END:VTIMEZONE
BEGIN:VEVENT
DTSTART;TZID=Europe/London:20260414T193000
DTEND;TZID=Europe/London:20260414T213000
DTSTAMP:20260421T184446
CREATED:20181213T202713Z
LAST-MODIFIED:20181213T202713Z
UID:10002693-1776195000-1776202200@www.red-house-albrighton.org.uk
SUMMARY:Albric Women's Institute
DESCRIPTION:Subscriptions are £41.00 a year which includes a monthly newsletter and 8 issues of WI Life magazine.\nVisitors are allowed 3 visits.  COME AND TRY US FOR THREE POUNDS!
URL:https://www.red-house-albrighton.org.uk/event/albric-womens-institute-2/2026-04-14/
LOCATION:The Red House\, Albrighton\, Shropshire\, WV7 3LU\, United Kingdom
CATEGORIES:Community Groups
END:VEVENT
BEGIN:VEVENT
DTSTART;TZID=Europe/London:20260310T193000
DTEND;TZID=Europe/London:20260310T213000
DTSTAMP:20260421T184446
CREATED:20181213T202713Z
LAST-MODIFIED:20181213T202713Z
UID:10002692-1773171000-1773178200@www.red-house-albrighton.org.uk
SUMMARY:Albric Women's Institute
DESCRIPTION:Subscriptions are £41.00 a year which includes a monthly newsletter and 8 issues of WI Life magazine.\nVisitors are allowed 3 visits.  COME AND TRY US FOR THREE POUNDS!
URL:https://www.red-house-albrighton.org.uk/event/albric-womens-institute-2/2026-03-10/
LOCATION:The Red House\, Albrighton\, Shropshire\, WV7 3LU\, United Kingdom
CATEGORIES:Community Groups
END:VEVENT
BEGIN:VEVENT
DTSTART;TZID=Europe/London:20260210T193000
DTEND;TZID=Europe/London:20260210T213000
DTSTAMP:20260421T184446
CREATED:20181213T202713Z
LAST-MODIFIED:20181213T202713Z
UID:10002691-1770751800-1770759000@www.red-house-albrighton.org.uk
SUMMARY:Albric Women's Institute
DESCRIPTION:Subscriptions are £41.00 a year which includes a monthly newsletter and 8 issues of WI Life magazine.\nVisitors are allowed 3 visits.  COME AND TRY US FOR THREE POUNDS!
URL:https://www.red-house-albrighton.org.uk/event/albric-womens-institute-2/2026-02-10/
LOCATION:The Red House\, Albrighton\, Shropshire\, WV7 3LU\, United Kingdom
CATEGORIES:Community Groups
END:VEVENT
BEGIN:VEVENT
DTSTART;TZID=Europe/London:20260113T193000
DTEND;TZID=Europe/London:20260113T213000
DTSTAMP:20260421T184446
CREATED:20181213T202713Z
LAST-MODIFIED:20181213T202713Z
UID:10002690-1768332600-1768339800@www.red-house-albrighton.org.uk
SUMMARY:Albric Women's Institute
DESCRIPTION:Subscriptions are £41.00 a year which includes a monthly newsletter and 8 issues of WI Life magazine.\nVisitors are allowed 3 visits.  COME AND TRY US FOR THREE POUNDS!
URL:https://www.red-house-albrighton.org.uk/event/albric-womens-institute-2/2026-01-13/
LOCATION:The Red House\, Albrighton\, Shropshire\, WV7 3LU\, United Kingdom
CATEGORIES:Community Groups
END:VEVENT
BEGIN:VEVENT
DTSTART;TZID=Europe/London:20251209T193000
DTEND;TZID=Europe/London:20251209T213000
DTSTAMP:20260421T184446
CREATED:20181213T202713Z
LAST-MODIFIED:20181213T202713Z
UID:10002689-1765308600-1765315800@www.red-house-albrighton.org.uk
SUMMARY:Albric Women's Institute
DESCRIPTION:Subscriptions are £41.00 a year which includes a monthly newsletter and 8 issues of WI Life magazine.\nVisitors are allowed 3 visits.  COME AND TRY US FOR THREE POUNDS!
URL:https://www.red-house-albrighton.org.uk/event/albric-womens-institute-2/2025-12-09/
LOCATION:The Red House\, Albrighton\, Shropshire\, WV7 3LU\, United Kingdom
CATEGORIES:Community Groups
END:VEVENT
BEGIN:VEVENT
DTSTART;TZID=Europe/London:20251111T193000
DTEND;TZID=Europe/London:20251111T213000
DTSTAMP:20260421T184446
CREATED:20181213T202713Z
LAST-MODIFIED:20181213T202713Z
UID:10002688-1762889400-1762896600@www.red-house-albrighton.org.uk
SUMMARY:Albric Women's Institute
DESCRIPTION:Subscriptions are £41.00 a year which includes a monthly newsletter and 8 issues of WI Life magazine.\nVisitors are allowed 3 visits.  COME AND TRY US FOR THREE POUNDS!
URL:https://www.red-house-albrighton.org.uk/event/albric-womens-institute-2/2025-11-11/
LOCATION:The Red House\, Albrighton\, Shropshire\, WV7 3LU\, United Kingdom
CATEGORIES:Community Groups
END:VEVENT
BEGIN:VEVENT
DTSTART;TZID=Europe/London:20251014T193000
DTEND;TZID=Europe/London:20251014T213000
DTSTAMP:20260421T184446
CREATED:20181213T202713Z
LAST-MODIFIED:20181213T202713Z
UID:10002687-1760470200-1760477400@www.red-house-albrighton.org.uk
SUMMARY:Albric Women's Institute
DESCRIPTION:Subscriptions are £41.00 a year which includes a monthly newsletter and 8 issues of WI Life magazine.\nVisitors are allowed 3 visits.  COME AND TRY US FOR THREE POUNDS!
URL:https://www.red-house-albrighton.org.uk/event/albric-womens-institute-2/2025-10-14/
LOCATION:The Red House\, Albrighton\, Shropshire\, WV7 3LU\, United Kingdom
CATEGORIES:Community Groups
END:VEVENT
BEGIN:VEVENT
DTSTART;TZID=Europe/London:20250909T193000
DTEND;TZID=Europe/London:20250909T213000
DTSTAMP:20260421T184446
CREATED:20181213T202713Z
LAST-MODIFIED:20181213T202713Z
UID:10002686-1757446200-1757453400@www.red-house-albrighton.org.uk
SUMMARY:Albric Women's Institute
DESCRIPTION:Subscriptions are £41.00 a year which includes a monthly newsletter and 8 issues of WI Life magazine.\nVisitors are allowed 3 visits.  COME AND TRY US FOR THREE POUNDS!
URL:https://www.red-house-albrighton.org.uk/event/albric-womens-institute-2/2025-09-09/
LOCATION:The Red House\, Albrighton\, Shropshire\, WV7 3LU\, United Kingdom
CATEGORIES:Community Groups
END:VEVENT
BEGIN:VEVENT
DTSTART;TZID=Europe/London:20250708T193000
DTEND;TZID=Europe/London:20250708T213000
DTSTAMP:20260421T184446
CREATED:20181213T202713Z
LAST-MODIFIED:20181213T202713Z
UID:10002685-1752003000-1752010200@www.red-house-albrighton.org.uk
SUMMARY:Albric Women's Institute
DESCRIPTION:Subscriptions are £41.00 a year which includes a monthly newsletter and 8 issues of WI Life magazine.\nVisitors are allowed 3 visits.  COME AND TRY US FOR THREE POUNDS!
URL:https://www.red-house-albrighton.org.uk/event/albric-womens-institute-2/2025-07-08/
LOCATION:The Red House\, Albrighton\, Shropshire\, WV7 3LU\, United Kingdom
CATEGORIES:Community Groups
END:VEVENT
BEGIN:VEVENT
DTSTART;TZID=Europe/London:20250610T193000
DTEND;TZID=Europe/London:20250610T213000
DTSTAMP:20260421T184446
CREATED:20181213T202713Z
LAST-MODIFIED:20181213T202713Z
UID:10002684-1749583800-1749591000@www.red-house-albrighton.org.uk
SUMMARY:Albric Women's Institute
DESCRIPTION:Subscriptions are £41.00 a year which includes a monthly newsletter and 8 issues of WI Life magazine.\nVisitors are allowed 3 visits.  COME AND TRY US FOR THREE POUNDS!
URL:https://www.red-house-albrighton.org.uk/event/albric-womens-institute-2/2025-06-10/
LOCATION:The Red House\, Albrighton\, Shropshire\, WV7 3LU\, United Kingdom
CATEGORIES:Community Groups
END:VEVENT
BEGIN:VEVENT
DTSTART;TZID=Europe/London:20250513T193000
DTEND;TZID=Europe/London:20250513T213000
DTSTAMP:20260421T184446
CREATED:20181213T202713Z
LAST-MODIFIED:20181213T202713Z
UID:10002683-1747164600-1747171800@www.red-house-albrighton.org.uk
SUMMARY:Albric Women's Institute
DESCRIPTION:Subscriptions are £41.00 a year which includes a monthly newsletter and 8 issues of WI Life magazine.\nVisitors are allowed 3 visits.  COME AND TRY US FOR THREE POUNDS!
URL:https://www.red-house-albrighton.org.uk/event/albric-womens-institute-2/2025-05-13/
LOCATION:The Red House\, Albrighton\, Shropshire\, WV7 3LU\, United Kingdom
CATEGORIES:Community Groups
END:VEVENT
BEGIN:VEVENT
DTSTART;TZID=Europe/London:20250408T193000
DTEND;TZID=Europe/London:20250408T213000
DTSTAMP:20260421T184446
CREATED:20181213T202713Z
LAST-MODIFIED:20181213T202713Z
UID:10002682-1744140600-1744147800@www.red-house-albrighton.org.uk
SUMMARY:Albric Women's Institute
DESCRIPTION:Subscriptions are £41.00 a year which includes a monthly newsletter and 8 issues of WI Life magazine.\nVisitors are allowed 3 visits.  COME AND TRY US FOR THREE POUNDS!
URL:https://www.red-house-albrighton.org.uk/event/albric-womens-institute-2/2025-04-08/
LOCATION:The Red House\, Albrighton\, Shropshire\, WV7 3LU\, United Kingdom
CATEGORIES:Community Groups
END:VEVENT
BEGIN:VEVENT
DTSTART;TZID=Europe/London:20250311T193000
DTEND;TZID=Europe/London:20250311T213000
DTSTAMP:20260421T184446
CREATED:20181213T202713Z
LAST-MODIFIED:20181213T202713Z
UID:10002681-1741721400-1741728600@www.red-house-albrighton.org.uk
SUMMARY:Albric Women's Institute
DESCRIPTION:Subscriptions are £41.00 a year which includes a monthly newsletter and 8 issues of WI Life magazine.\nVisitors are allowed 3 visits.  COME AND TRY US FOR THREE POUNDS!
URL:https://www.red-house-albrighton.org.uk/event/albric-womens-institute-2/2025-03-11/
LOCATION:The Red House\, Albrighton\, Shropshire\, WV7 3LU\, United Kingdom
CATEGORIES:Community Groups
END:VEVENT
BEGIN:VEVENT
DTSTART;TZID=Europe/London:20250211T193000
DTEND;TZID=Europe/London:20250211T213000
DTSTAMP:20260421T184446
CREATED:20181213T202713Z
LAST-MODIFIED:20181213T202713Z
UID:10002680-1739302200-1739309400@www.red-house-albrighton.org.uk
SUMMARY:Albric Women's Institute
DESCRIPTION:Subscriptions are £41.00 a year which includes a monthly newsletter and 8 issues of WI Life magazine.\nVisitors are allowed 3 visits.  COME AND TRY US FOR THREE POUNDS!
URL:https://www.red-house-albrighton.org.uk/event/albric-womens-institute-2/2025-02-11/
LOCATION:The Red House\, Albrighton\, Shropshire\, WV7 3LU\, United Kingdom
CATEGORIES:Community Groups
END:VEVENT
BEGIN:VEVENT
DTSTART;TZID=Europe/London:20250114T193000
DTEND;TZID=Europe/London:20250114T213000
DTSTAMP:20260421T184446
CREATED:20181213T202713Z
LAST-MODIFIED:20181213T202713Z
UID:10002679-1736883000-1736890200@www.red-house-albrighton.org.uk
SUMMARY:Albric Women's Institute
DESCRIPTION:Subscriptions are £41.00 a year which includes a monthly newsletter and 8 issues of WI Life magazine.\nVisitors are allowed 3 visits.  COME AND TRY US FOR THREE POUNDS!
URL:https://www.red-house-albrighton.org.uk/event/albric-womens-institute-2/2025-01-14/
LOCATION:The Red House\, Albrighton\, Shropshire\, WV7 3LU\, United Kingdom
CATEGORIES:Community Groups
END:VEVENT
BEGIN:VEVENT
DTSTART;TZID=Europe/London:20241210T193000
DTEND;TZID=Europe/London:20241210T213000
DTSTAMP:20260421T184446
CREATED:20181213T202713Z
LAST-MODIFIED:20181213T202713Z
UID:10002678-1733859000-1733866200@www.red-house-albrighton.org.uk
SUMMARY:Albric Women's Institute
DESCRIPTION:Subscriptions are £41.00 a year which includes a monthly newsletter and 8 issues of WI Life magazine.\nVisitors are allowed 3 visits.  COME AND TRY US FOR THREE POUNDS!
URL:https://www.red-house-albrighton.org.uk/event/albric-womens-institute-2/2024-12-10/
LOCATION:The Red House\, Albrighton\, Shropshire\, WV7 3LU\, United Kingdom
CATEGORIES:Community Groups
END:VEVENT
BEGIN:VEVENT
DTSTART;TZID=Europe/London:20241112T193000
DTEND;TZID=Europe/London:20241112T213000
DTSTAMP:20260421T184446
CREATED:20181213T202713Z
LAST-MODIFIED:20181213T202713Z
UID:10002677-1731439800-1731447000@www.red-house-albrighton.org.uk
SUMMARY:Albric Women's Institute
DESCRIPTION:Subscriptions are £41.00 a year which includes a monthly newsletter and 8 issues of WI Life magazine.\nVisitors are allowed 3 visits.  COME AND TRY US FOR THREE POUNDS!
URL:https://www.red-house-albrighton.org.uk/event/albric-womens-institute-2/2024-11-12/
LOCATION:The Red House\, Albrighton\, Shropshire\, WV7 3LU\, United Kingdom
CATEGORIES:Community Groups
END:VEVENT
BEGIN:VEVENT
DTSTART;TZID=Europe/London:20241008T193000
DTEND;TZID=Europe/London:20241008T213000
DTSTAMP:20260421T184446
CREATED:20181213T202713Z
LAST-MODIFIED:20181213T202713Z
UID:10002676-1728415800-1728423000@www.red-house-albrighton.org.uk
SUMMARY:Albric Women's Institute
DESCRIPTION:Subscriptions are £41.00 a year which includes a monthly newsletter and 8 issues of WI Life magazine.\nVisitors are allowed 3 visits.  COME AND TRY US FOR THREE POUNDS!
URL:https://www.red-house-albrighton.org.uk/event/albric-womens-institute-2/2024-10-08/
LOCATION:The Red House\, Albrighton\, Shropshire\, WV7 3LU\, United Kingdom
CATEGORIES:Community Groups
END:VEVENT
BEGIN:VEVENT
DTSTART;TZID=Europe/London:20240910T193000
DTEND;TZID=Europe/London:20240910T213000
DTSTAMP:20260421T184446
CREATED:20181213T202713Z
LAST-MODIFIED:20181213T202713Z
UID:10001510-1725996600-1726003800@www.red-house-albrighton.org.uk
SUMMARY:Albric Women's Institute
DESCRIPTION:Subscriptions are £41.00 a year which includes a monthly newsletter and 8 issues of WI Life magazine.\nVisitors are allowed 3 visits.  COME AND TRY US FOR THREE POUNDS!
URL:https://www.red-house-albrighton.org.uk/event/albric-womens-institute-2/2024-09-10/
LOCATION:The Red House\, Albrighton\, Shropshire\, WV7 3LU\, United Kingdom
CATEGORIES:Community Groups
END:VEVENT
BEGIN:VEVENT
DTSTART;TZID=Europe/London:20240709T193000
DTEND;TZID=Europe/London:20240709T213000
DTSTAMP:20260421T184446
CREATED:20181213T202713Z
LAST-MODIFIED:20181213T202713Z
UID:10001509-1720553400-1720560600@www.red-house-albrighton.org.uk
SUMMARY:Albric Women's Institute
DESCRIPTION:Subscriptions are £41.00 a year which includes a monthly newsletter and 8 issues of WI Life magazine.\nVisitors are allowed 3 visits.  COME AND TRY US FOR THREE POUNDS!
URL:https://www.red-house-albrighton.org.uk/event/albric-womens-institute-2/2024-07-09/
LOCATION:The Red House\, Albrighton\, Shropshire\, WV7 3LU\, United Kingdom
CATEGORIES:Community Groups
END:VEVENT
BEGIN:VEVENT
DTSTART;TZID=Europe/London:20240611T193000
DTEND;TZID=Europe/London:20240611T213000
DTSTAMP:20260421T184446
CREATED:20181213T202713Z
LAST-MODIFIED:20181213T202713Z
UID:10001508-1718134200-1718141400@www.red-house-albrighton.org.uk
SUMMARY:Albric Women's Institute
DESCRIPTION:Subscriptions are £41.00 a year which includes a monthly newsletter and 8 issues of WI Life magazine.\nVisitors are allowed 3 visits.  COME AND TRY US FOR THREE POUNDS!
URL:https://www.red-house-albrighton.org.uk/event/albric-womens-institute-2/2024-06-11/
LOCATION:The Red House\, Albrighton\, Shropshire\, WV7 3LU\, United Kingdom
CATEGORIES:Community Groups
END:VEVENT
BEGIN:VEVENT
DTSTART;TZID=Europe/London:20240514T193000
DTEND;TZID=Europe/London:20240514T213000
DTSTAMP:20260421T184446
CREATED:20181213T202713Z
LAST-MODIFIED:20181213T202713Z
UID:10001507-1715715000-1715722200@www.red-house-albrighton.org.uk
SUMMARY:Albric Women's Institute
DESCRIPTION:Subscriptions are £41.00 a year which includes a monthly newsletter and 8 issues of WI Life magazine.\nVisitors are allowed 3 visits.  COME AND TRY US FOR THREE POUNDS!
URL:https://www.red-house-albrighton.org.uk/event/albric-womens-institute-2/2024-05-14/
LOCATION:The Red House\, Albrighton\, Shropshire\, WV7 3LU\, United Kingdom
CATEGORIES:Community Groups
END:VEVENT
BEGIN:VEVENT
DTSTART;TZID=Europe/London:20240409T193000
DTEND;TZID=Europe/London:20240409T213000
DTSTAMP:20260421T184446
CREATED:20181213T202713Z
LAST-MODIFIED:20181213T202713Z
UID:10001506-1712691000-1712698200@www.red-house-albrighton.org.uk
SUMMARY:Albric Women's Institute
DESCRIPTION:Subscriptions are £41.00 a year which includes a monthly newsletter and 8 issues of WI Life magazine.\nVisitors are allowed 3 visits.  COME AND TRY US FOR THREE POUNDS!
URL:https://www.red-house-albrighton.org.uk/event/albric-womens-institute-2/2024-04-09/
LOCATION:The Red House\, Albrighton\, Shropshire\, WV7 3LU\, United Kingdom
CATEGORIES:Community Groups
END:VEVENT
BEGIN:VEVENT
DTSTART;TZID=Europe/London:20240312T193000
DTEND;TZID=Europe/London:20240312T213000
DTSTAMP:20260421T184446
CREATED:20181213T202713Z
LAST-MODIFIED:20181213T202713Z
UID:10001505-1710271800-1710279000@www.red-house-albrighton.org.uk
SUMMARY:Albric Women's Institute
DESCRIPTION:Subscriptions are £41.00 a year which includes a monthly newsletter and 8 issues of WI Life magazine.\nVisitors are allowed 3 visits.  COME AND TRY US FOR THREE POUNDS!
URL:https://www.red-house-albrighton.org.uk/event/albric-womens-institute-2/2024-03-12/
LOCATION:The Red House\, Albrighton\, Shropshire\, WV7 3LU\, United Kingdom
CATEGORIES:Community Groups
END:VEVENT
BEGIN:VEVENT
DTSTART;TZID=Europe/London:20240213T193000
DTEND;TZID=Europe/London:20240213T213000
DTSTAMP:20260421T184446
CREATED:20181213T202713Z
LAST-MODIFIED:20181213T202713Z
UID:10001504-1707852600-1707859800@www.red-house-albrighton.org.uk
SUMMARY:Albric Women's Institute
DESCRIPTION:Subscriptions are £41.00 a year which includes a monthly newsletter and 8 issues of WI Life magazine.\nVisitors are allowed 3 visits.  COME AND TRY US FOR THREE POUNDS!
URL:https://www.red-house-albrighton.org.uk/event/albric-womens-institute-2/2024-02-13/
LOCATION:The Red House\, Albrighton\, Shropshire\, WV7 3LU\, United Kingdom
CATEGORIES:Community Groups
END:VEVENT
BEGIN:VEVENT
DTSTART;TZID=Europe/London:20240109T193000
DTEND;TZID=Europe/London:20240109T213000
DTSTAMP:20260421T184446
CREATED:20181213T202713Z
LAST-MODIFIED:20181213T202713Z
UID:10001503-1704828600-1704835800@www.red-house-albrighton.org.uk
SUMMARY:Albric Women's Institute
DESCRIPTION:Subscriptions are £41.00 a year which includes a monthly newsletter and 8 issues of WI Life magazine.\nVisitors are allowed 3 visits.  COME AND TRY US FOR THREE POUNDS!
URL:https://www.red-house-albrighton.org.uk/event/albric-womens-institute-2/2024-01-09/
LOCATION:The Red House\, Albrighton\, Shropshire\, WV7 3LU\, United Kingdom
CATEGORIES:Community Groups
END:VEVENT
BEGIN:VEVENT
DTSTART;TZID=Europe/London:20231212T193000
DTEND;TZID=Europe/London:20231212T213000
DTSTAMP:20260421T184446
CREATED:20181213T202713Z
LAST-MODIFIED:20181213T202713Z
UID:10001502-1702409400-1702416600@www.red-house-albrighton.org.uk
SUMMARY:Albric Women's Institute
DESCRIPTION:Subscriptions are £41.00 a year which includes a monthly newsletter and 8 issues of WI Life magazine.\nVisitors are allowed 3 visits.  COME AND TRY US FOR THREE POUNDS!
URL:https://www.red-house-albrighton.org.uk/event/albric-womens-institute-2/2023-12-12/
LOCATION:The Red House\, Albrighton\, Shropshire\, WV7 3LU\, United Kingdom
CATEGORIES:Community Groups
END:VEVENT
BEGIN:VEVENT
DTSTART;TZID=Europe/London:20231114T193000
DTEND;TZID=Europe/London:20231114T213000
DTSTAMP:20260421T184446
CREATED:20181213T202713Z
LAST-MODIFIED:20181213T202713Z
UID:10001501-1699990200-1699997400@www.red-house-albrighton.org.uk
SUMMARY:Albric Women's Institute
DESCRIPTION:Subscriptions are £41.00 a year which includes a monthly newsletter and 8 issues of WI Life magazine.\nVisitors are allowed 3 visits.  COME AND TRY US FOR THREE POUNDS!
URL:https://www.red-house-albrighton.org.uk/event/albric-womens-institute-2/2023-11-14/
LOCATION:The Red House\, Albrighton\, Shropshire\, WV7 3LU\, United Kingdom
CATEGORIES:Community Groups
END:VEVENT
BEGIN:VEVENT
DTSTART;TZID=Europe/London:20231010T193000
DTEND;TZID=Europe/London:20231010T213000
DTSTAMP:20260421T184446
CREATED:20181213T202713Z
LAST-MODIFIED:20181213T202713Z
UID:10001500-1696966200-1696973400@www.red-house-albrighton.org.uk
SUMMARY:Albric Women's Institute
DESCRIPTION:Subscriptions are £41.00 a year which includes a monthly newsletter and 8 issues of WI Life magazine.\nVisitors are allowed 3 visits.  COME AND TRY US FOR THREE POUNDS!
URL:https://www.red-house-albrighton.org.uk/event/albric-womens-institute-2/2023-10-10/
LOCATION:The Red House\, Albrighton\, Shropshire\, WV7 3LU\, United Kingdom
CATEGORIES:Community Groups
END:VEVENT
BEGIN:VEVENT
DTSTART;TZID=Europe/London:20230912T193000
DTEND;TZID=Europe/London:20230912T213000
DTSTAMP:20260421T184446
CREATED:20181213T202713Z
LAST-MODIFIED:20181213T202713Z
UID:10001499-1694547000-1694554200@www.red-house-albrighton.org.uk
SUMMARY:Albric Women's Institute
DESCRIPTION:Subscriptions are £41.00 a year which includes a monthly newsletter and 8 issues of WI Life magazine.\nVisitors are allowed 3 visits.  COME AND TRY US FOR THREE POUNDS!
URL:https://www.red-house-albrighton.org.uk/event/albric-womens-institute-2/2023-09-12/
LOCATION:The Red House\, Albrighton\, Shropshire\, WV7 3LU\, United Kingdom
CATEGORIES:Community Groups
END:VEVENT
END:VCALENDAR