BEGIN:VCALENDAR
VERSION:2.0
PRODID:-//The Red House - ECPv6.15.15//NONSGML v1.0//EN
CALSCALE:GREGORIAN
METHOD:PUBLISH
X-ORIGINAL-URL:https://www.red-house-albrighton.org.uk
X-WR-CALDESC:Events for The Red House
REFRESH-INTERVAL;VALUE=DURATION:PT1H
X-Robots-Tag:noindex
X-PUBLISHED-TTL:PT1H
BEGIN:VTIMEZONE
TZID:Europe/London
BEGIN:DAYLIGHT
TZOFFSETFROM:+0000
TZOFFSETTO:+0100
TZNAME:BST
DTSTART:20260329T010000
END:DAYLIGHT
BEGIN:STANDARD
TZOFFSETFROM:+0100
TZOFFSETTO:+0000
TZNAME:GMT
DTSTART:20261025T010000
END:STANDARD
BEGIN:DAYLIGHT
TZOFFSETFROM:+0000
TZOFFSETTO:+0100
TZNAME:BST
DTSTART:20270328T010000
END:DAYLIGHT
BEGIN:STANDARD
TZOFFSETFROM:+0100
TZOFFSETTO:+0000
TZNAME:GMT
DTSTART:20271031T010000
END:STANDARD
BEGIN:DAYLIGHT
TZOFFSETFROM:+0000
TZOFFSETTO:+0100
TZNAME:BST
DTSTART:20280326T010000
END:DAYLIGHT
BEGIN:STANDARD
TZOFFSETFROM:+0100
TZOFFSETTO:+0000
TZNAME:GMT
DTSTART:20281029T010000
END:STANDARD
BEGIN:DAYLIGHT
TZOFFSETFROM:+0000
TZOFFSETTO:+0100
TZNAME:BST
DTSTART:20290325T010000
END:DAYLIGHT
BEGIN:STANDARD
TZOFFSETFROM:+0100
TZOFFSETTO:+0000
TZNAME:GMT
DTSTART:20291028T010000
END:STANDARD
BEGIN:DAYLIGHT
TZOFFSETFROM:+0000
TZOFFSETTO:+0100
TZNAME:BST
DTSTART:20300331T010000
END:DAYLIGHT
BEGIN:STANDARD
TZOFFSETFROM:+0100
TZOFFSETTO:+0000
TZNAME:GMT
DTSTART:20301027T010000
END:STANDARD
END:VTIMEZONE
BEGIN:VEVENT
DTSTART;TZID=Europe/London:20270413T193000
DTEND;TZID=Europe/London:20270413T213000
DTSTAMP:20260421T184448
CREATED:20181213T202713Z
LAST-MODIFIED:20181213T202713Z
UID:10002704-1807644600-1807651800@www.red-house-albrighton.org.uk
SUMMARY:Albric Women's Institute
DESCRIPTION:Subscriptions are £41.00 a year which includes a monthly newsletter and 8 issues of WI Life magazine.\nVisitors are allowed 3 visits.  COME AND TRY US FOR THREE POUNDS!
URL:https://www.red-house-albrighton.org.uk/event/albric-womens-institute-2/2027-04-13/
LOCATION:The Red House\, Albrighton\, Shropshire\, WV7 3LU\, United Kingdom
CATEGORIES:Community Groups
END:VEVENT
BEGIN:VEVENT
DTSTART;TZID=Europe/London:20270511T193000
DTEND;TZID=Europe/London:20270511T213000
DTSTAMP:20260421T184448
CREATED:20181213T202713Z
LAST-MODIFIED:20181213T202713Z
UID:10002705-1810063800-1810071000@www.red-house-albrighton.org.uk
SUMMARY:Albric Women's Institute
DESCRIPTION:Subscriptions are £41.00 a year which includes a monthly newsletter and 8 issues of WI Life magazine.\nVisitors are allowed 3 visits.  COME AND TRY US FOR THREE POUNDS!
URL:https://www.red-house-albrighton.org.uk/event/albric-womens-institute-2/2027-05-11/
LOCATION:The Red House\, Albrighton\, Shropshire\, WV7 3LU\, United Kingdom
CATEGORIES:Community Groups
END:VEVENT
BEGIN:VEVENT
DTSTART;TZID=Europe/London:20270608T193000
DTEND;TZID=Europe/London:20270608T213000
DTSTAMP:20260421T184448
CREATED:20181213T202713Z
LAST-MODIFIED:20181213T202713Z
UID:10002706-1812483000-1812490200@www.red-house-albrighton.org.uk
SUMMARY:Albric Women's Institute
DESCRIPTION:Subscriptions are £41.00 a year which includes a monthly newsletter and 8 issues of WI Life magazine.\nVisitors are allowed 3 visits.  COME AND TRY US FOR THREE POUNDS!
URL:https://www.red-house-albrighton.org.uk/event/albric-womens-institute-2/2027-06-08/
LOCATION:The Red House\, Albrighton\, Shropshire\, WV7 3LU\, United Kingdom
CATEGORIES:Community Groups
END:VEVENT
BEGIN:VEVENT
DTSTART;TZID=Europe/London:20270713T193000
DTEND;TZID=Europe/London:20270713T213000
DTSTAMP:20260421T184448
CREATED:20181213T202713Z
LAST-MODIFIED:20181213T202713Z
UID:10002707-1815507000-1815514200@www.red-house-albrighton.org.uk
SUMMARY:Albric Women's Institute
DESCRIPTION:Subscriptions are £41.00 a year which includes a monthly newsletter and 8 issues of WI Life magazine.\nVisitors are allowed 3 visits.  COME AND TRY US FOR THREE POUNDS!
URL:https://www.red-house-albrighton.org.uk/event/albric-womens-institute-2/2027-07-13/
LOCATION:The Red House\, Albrighton\, Shropshire\, WV7 3LU\, United Kingdom
CATEGORIES:Community Groups
END:VEVENT
BEGIN:VEVENT
DTSTART;TZID=Europe/London:20270914T193000
DTEND;TZID=Europe/London:20270914T213000
DTSTAMP:20260421T184448
CREATED:20181213T202713Z
LAST-MODIFIED:20181213T202713Z
UID:10002708-1820950200-1820957400@www.red-house-albrighton.org.uk
SUMMARY:Albric Women's Institute
DESCRIPTION:Subscriptions are £41.00 a year which includes a monthly newsletter and 8 issues of WI Life magazine.\nVisitors are allowed 3 visits.  COME AND TRY US FOR THREE POUNDS!
URL:https://www.red-house-albrighton.org.uk/event/albric-womens-institute-2/2027-09-14/
LOCATION:The Red House\, Albrighton\, Shropshire\, WV7 3LU\, United Kingdom
CATEGORIES:Community Groups
END:VEVENT
BEGIN:VEVENT
DTSTART;TZID=Europe/London:20271012T193000
DTEND;TZID=Europe/London:20271012T213000
DTSTAMP:20260421T184448
CREATED:20181213T202713Z
LAST-MODIFIED:20181213T202713Z
UID:10002709-1823369400-1823376600@www.red-house-albrighton.org.uk
SUMMARY:Albric Women's Institute
DESCRIPTION:Subscriptions are £41.00 a year which includes a monthly newsletter and 8 issues of WI Life magazine.\nVisitors are allowed 3 visits.  COME AND TRY US FOR THREE POUNDS!
URL:https://www.red-house-albrighton.org.uk/event/albric-womens-institute-2/2027-10-12/
LOCATION:The Red House\, Albrighton\, Shropshire\, WV7 3LU\, United Kingdom
CATEGORIES:Community Groups
END:VEVENT
BEGIN:VEVENT
DTSTART;TZID=Europe/London:20271109T193000
DTEND;TZID=Europe/London:20271109T213000
DTSTAMP:20260421T184448
CREATED:20181213T202713Z
LAST-MODIFIED:20181213T202713Z
UID:10002710-1825788600-1825795800@www.red-house-albrighton.org.uk
SUMMARY:Albric Women's Institute
DESCRIPTION:Subscriptions are £41.00 a year which includes a monthly newsletter and 8 issues of WI Life magazine.\nVisitors are allowed 3 visits.  COME AND TRY US FOR THREE POUNDS!
URL:https://www.red-house-albrighton.org.uk/event/albric-womens-institute-2/2027-11-09/
LOCATION:The Red House\, Albrighton\, Shropshire\, WV7 3LU\, United Kingdom
CATEGORIES:Community Groups
END:VEVENT
BEGIN:VEVENT
DTSTART;TZID=Europe/London:20271214T193000
DTEND;TZID=Europe/London:20271214T213000
DTSTAMP:20260421T184448
CREATED:20181213T202713Z
LAST-MODIFIED:20181213T202713Z
UID:10002711-1828812600-1828819800@www.red-house-albrighton.org.uk
SUMMARY:Albric Women's Institute
DESCRIPTION:Subscriptions are £41.00 a year which includes a monthly newsletter and 8 issues of WI Life magazine.\nVisitors are allowed 3 visits.  COME AND TRY US FOR THREE POUNDS!
URL:https://www.red-house-albrighton.org.uk/event/albric-womens-institute-2/2027-12-14/
LOCATION:The Red House\, Albrighton\, Shropshire\, WV7 3LU\, United Kingdom
CATEGORIES:Community Groups
END:VEVENT
BEGIN:VEVENT
DTSTART;TZID=Europe/London:20280111T193000
DTEND;TZID=Europe/London:20280111T213000
DTSTAMP:20260421T184448
CREATED:20181213T202713Z
LAST-MODIFIED:20181213T202713Z
UID:10002712-1831231800-1831239000@www.red-house-albrighton.org.uk
SUMMARY:Albric Women's Institute
DESCRIPTION:Subscriptions are £41.00 a year which includes a monthly newsletter and 8 issues of WI Life magazine.\nVisitors are allowed 3 visits.  COME AND TRY US FOR THREE POUNDS!
URL:https://www.red-house-albrighton.org.uk/event/albric-womens-institute-2/2028-01-11/
LOCATION:The Red House\, Albrighton\, Shropshire\, WV7 3LU\, United Kingdom
CATEGORIES:Community Groups
END:VEVENT
BEGIN:VEVENT
DTSTART;TZID=Europe/London:20280208T193000
DTEND;TZID=Europe/London:20280208T213000
DTSTAMP:20260421T184448
CREATED:20181213T202713Z
LAST-MODIFIED:20181213T202713Z
UID:10002713-1833651000-1833658200@www.red-house-albrighton.org.uk
SUMMARY:Albric Women's Institute
DESCRIPTION:Subscriptions are £41.00 a year which includes a monthly newsletter and 8 issues of WI Life magazine.\nVisitors are allowed 3 visits.  COME AND TRY US FOR THREE POUNDS!
URL:https://www.red-house-albrighton.org.uk/event/albric-womens-institute-2/2028-02-08/
LOCATION:The Red House\, Albrighton\, Shropshire\, WV7 3LU\, United Kingdom
CATEGORIES:Community Groups
END:VEVENT
BEGIN:VEVENT
DTSTART;TZID=Europe/London:20280314T193000
DTEND;TZID=Europe/London:20280314T213000
DTSTAMP:20260421T184448
CREATED:20181213T202713Z
LAST-MODIFIED:20181213T202713Z
UID:10002714-1836675000-1836682200@www.red-house-albrighton.org.uk
SUMMARY:Albric Women's Institute
DESCRIPTION:Subscriptions are £41.00 a year which includes a monthly newsletter and 8 issues of WI Life magazine.\nVisitors are allowed 3 visits.  COME AND TRY US FOR THREE POUNDS!
URL:https://www.red-house-albrighton.org.uk/event/albric-womens-institute-2/2028-03-14/
LOCATION:The Red House\, Albrighton\, Shropshire\, WV7 3LU\, United Kingdom
CATEGORIES:Community Groups
END:VEVENT
BEGIN:VEVENT
DTSTART;TZID=Europe/London:20280411T193000
DTEND;TZID=Europe/London:20280411T213000
DTSTAMP:20260421T184448
CREATED:20181213T202713Z
LAST-MODIFIED:20181213T202713Z
UID:10002715-1839094200-1839101400@www.red-house-albrighton.org.uk
SUMMARY:Albric Women's Institute
DESCRIPTION:Subscriptions are £41.00 a year which includes a monthly newsletter and 8 issues of WI Life magazine.\nVisitors are allowed 3 visits.  COME AND TRY US FOR THREE POUNDS!
URL:https://www.red-house-albrighton.org.uk/event/albric-womens-institute-2/2028-04-11/
LOCATION:The Red House\, Albrighton\, Shropshire\, WV7 3LU\, United Kingdom
CATEGORIES:Community Groups
END:VEVENT
BEGIN:VEVENT
DTSTART;TZID=Europe/London:20280509T193000
DTEND;TZID=Europe/London:20280509T213000
DTSTAMP:20260421T184448
CREATED:20181213T202713Z
LAST-MODIFIED:20181213T202713Z
UID:10002716-1841513400-1841520600@www.red-house-albrighton.org.uk
SUMMARY:Albric Women's Institute
DESCRIPTION:Subscriptions are £41.00 a year which includes a monthly newsletter and 8 issues of WI Life magazine.\nVisitors are allowed 3 visits.  COME AND TRY US FOR THREE POUNDS!
URL:https://www.red-house-albrighton.org.uk/event/albric-womens-institute-2/2028-05-09/
LOCATION:The Red House\, Albrighton\, Shropshire\, WV7 3LU\, United Kingdom
CATEGORIES:Community Groups
END:VEVENT
BEGIN:VEVENT
DTSTART;TZID=Europe/London:20280613T193000
DTEND;TZID=Europe/London:20280613T213000
DTSTAMP:20260421T184448
CREATED:20181213T202713Z
LAST-MODIFIED:20181213T202713Z
UID:10002717-1844537400-1844544600@www.red-house-albrighton.org.uk
SUMMARY:Albric Women's Institute
DESCRIPTION:Subscriptions are £41.00 a year which includes a monthly newsletter and 8 issues of WI Life magazine.\nVisitors are allowed 3 visits.  COME AND TRY US FOR THREE POUNDS!
URL:https://www.red-house-albrighton.org.uk/event/albric-womens-institute-2/2028-06-13/
LOCATION:The Red House\, Albrighton\, Shropshire\, WV7 3LU\, United Kingdom
CATEGORIES:Community Groups
END:VEVENT
BEGIN:VEVENT
DTSTART;TZID=Europe/London:20280711T193000
DTEND;TZID=Europe/London:20280711T213000
DTSTAMP:20260421T184448
CREATED:20181213T202713Z
LAST-MODIFIED:20181213T202713Z
UID:10002718-1846956600-1846963800@www.red-house-albrighton.org.uk
SUMMARY:Albric Women's Institute
DESCRIPTION:Subscriptions are £41.00 a year which includes a monthly newsletter and 8 issues of WI Life magazine.\nVisitors are allowed 3 visits.  COME AND TRY US FOR THREE POUNDS!
URL:https://www.red-house-albrighton.org.uk/event/albric-womens-institute-2/2028-07-11/
LOCATION:The Red House\, Albrighton\, Shropshire\, WV7 3LU\, United Kingdom
CATEGORIES:Community Groups
END:VEVENT
BEGIN:VEVENT
DTSTART;TZID=Europe/London:20280912T193000
DTEND;TZID=Europe/London:20280912T213000
DTSTAMP:20260421T184448
CREATED:20181213T202713Z
LAST-MODIFIED:20181213T202713Z
UID:10002719-1852399800-1852407000@www.red-house-albrighton.org.uk
SUMMARY:Albric Women's Institute
DESCRIPTION:Subscriptions are £41.00 a year which includes a monthly newsletter and 8 issues of WI Life magazine.\nVisitors are allowed 3 visits.  COME AND TRY US FOR THREE POUNDS!
URL:https://www.red-house-albrighton.org.uk/event/albric-womens-institute-2/2028-09-12/
LOCATION:The Red House\, Albrighton\, Shropshire\, WV7 3LU\, United Kingdom
CATEGORIES:Community Groups
END:VEVENT
BEGIN:VEVENT
DTSTART;TZID=Europe/London:20281010T193000
DTEND;TZID=Europe/London:20281010T213000
DTSTAMP:20260421T184448
CREATED:20181213T202713Z
LAST-MODIFIED:20181213T202713Z
UID:10002720-1854819000-1854826200@www.red-house-albrighton.org.uk
SUMMARY:Albric Women's Institute
DESCRIPTION:Subscriptions are £41.00 a year which includes a monthly newsletter and 8 issues of WI Life magazine.\nVisitors are allowed 3 visits.  COME AND TRY US FOR THREE POUNDS!
URL:https://www.red-house-albrighton.org.uk/event/albric-womens-institute-2/2028-10-10/
LOCATION:The Red House\, Albrighton\, Shropshire\, WV7 3LU\, United Kingdom
CATEGORIES:Community Groups
END:VEVENT
BEGIN:VEVENT
DTSTART;TZID=Europe/London:20281114T193000
DTEND;TZID=Europe/London:20281114T213000
DTSTAMP:20260421T184448
CREATED:20181213T202713Z
LAST-MODIFIED:20181213T202713Z
UID:10002736-1857843000-1857850200@www.red-house-albrighton.org.uk
SUMMARY:Albric Women's Institute
DESCRIPTION:Subscriptions are £41.00 a year which includes a monthly newsletter and 8 issues of WI Life magazine.\nVisitors are allowed 3 visits.  COME AND TRY US FOR THREE POUNDS!
URL:https://www.red-house-albrighton.org.uk/event/albric-womens-institute-2/2028-11-14/
LOCATION:The Red House\, Albrighton\, Shropshire\, WV7 3LU\, United Kingdom
CATEGORIES:Community Groups
END:VEVENT
BEGIN:VEVENT
DTSTART;TZID=Europe/London:20281212T193000
DTEND;TZID=Europe/London:20281212T213000
DTSTAMP:20260421T184448
CREATED:20181213T202713Z
LAST-MODIFIED:20181213T202713Z
UID:10002737-1860262200-1860269400@www.red-house-albrighton.org.uk
SUMMARY:Albric Women's Institute
DESCRIPTION:Subscriptions are £41.00 a year which includes a monthly newsletter and 8 issues of WI Life magazine.\nVisitors are allowed 3 visits.  COME AND TRY US FOR THREE POUNDS!
URL:https://www.red-house-albrighton.org.uk/event/albric-womens-institute-2/2028-12-12/
LOCATION:The Red House\, Albrighton\, Shropshire\, WV7 3LU\, United Kingdom
CATEGORIES:Community Groups
END:VEVENT
BEGIN:VEVENT
DTSTART;TZID=Europe/London:20290109T193000
DTEND;TZID=Europe/London:20290109T213000
DTSTAMP:20260421T184448
CREATED:20181213T202713Z
LAST-MODIFIED:20181213T202713Z
UID:10002738-1862681400-1862688600@www.red-house-albrighton.org.uk
SUMMARY:Albric Women's Institute
DESCRIPTION:Subscriptions are £41.00 a year which includes a monthly newsletter and 8 issues of WI Life magazine.\nVisitors are allowed 3 visits.  COME AND TRY US FOR THREE POUNDS!
URL:https://www.red-house-albrighton.org.uk/event/albric-womens-institute-2/2029-01-09/
LOCATION:The Red House\, Albrighton\, Shropshire\, WV7 3LU\, United Kingdom
CATEGORIES:Community Groups
END:VEVENT
BEGIN:VEVENT
DTSTART;TZID=Europe/London:20290213T193000
DTEND;TZID=Europe/London:20290213T213000
DTSTAMP:20260421T184448
CREATED:20181213T202713Z
LAST-MODIFIED:20181213T202713Z
UID:10002739-1865705400-1865712600@www.red-house-albrighton.org.uk
SUMMARY:Albric Women's Institute
DESCRIPTION:Subscriptions are £41.00 a year which includes a monthly newsletter and 8 issues of WI Life magazine.\nVisitors are allowed 3 visits.  COME AND TRY US FOR THREE POUNDS!
URL:https://www.red-house-albrighton.org.uk/event/albric-womens-institute-2/2029-02-13/
LOCATION:The Red House\, Albrighton\, Shropshire\, WV7 3LU\, United Kingdom
CATEGORIES:Community Groups
END:VEVENT
BEGIN:VEVENT
DTSTART;TZID=Europe/London:20290313T193000
DTEND;TZID=Europe/London:20290313T213000
DTSTAMP:20260421T184448
CREATED:20181213T202713Z
LAST-MODIFIED:20181213T202713Z
UID:10002740-1868124600-1868131800@www.red-house-albrighton.org.uk
SUMMARY:Albric Women's Institute
DESCRIPTION:Subscriptions are £41.00 a year which includes a monthly newsletter and 8 issues of WI Life magazine.\nVisitors are allowed 3 visits.  COME AND TRY US FOR THREE POUNDS!
URL:https://www.red-house-albrighton.org.uk/event/albric-womens-institute-2/2029-03-13/
LOCATION:The Red House\, Albrighton\, Shropshire\, WV7 3LU\, United Kingdom
CATEGORIES:Community Groups
END:VEVENT
BEGIN:VEVENT
DTSTART;TZID=Europe/London:20290410T193000
DTEND;TZID=Europe/London:20290410T213000
DTSTAMP:20260421T184448
CREATED:20181213T202713Z
LAST-MODIFIED:20181213T202713Z
UID:10002741-1870543800-1870551000@www.red-house-albrighton.org.uk
SUMMARY:Albric Women's Institute
DESCRIPTION:Subscriptions are £41.00 a year which includes a monthly newsletter and 8 issues of WI Life magazine.\nVisitors are allowed 3 visits.  COME AND TRY US FOR THREE POUNDS!
URL:https://www.red-house-albrighton.org.uk/event/albric-womens-institute-2/2029-04-10/
LOCATION:The Red House\, Albrighton\, Shropshire\, WV7 3LU\, United Kingdom
CATEGORIES:Community Groups
END:VEVENT
BEGIN:VEVENT
DTSTART;TZID=Europe/London:20290508T193000
DTEND;TZID=Europe/London:20290508T213000
DTSTAMP:20260421T184448
CREATED:20181213T202713Z
LAST-MODIFIED:20181213T202713Z
UID:10002742-1872963000-1872970200@www.red-house-albrighton.org.uk
SUMMARY:Albric Women's Institute
DESCRIPTION:Subscriptions are £41.00 a year which includes a monthly newsletter and 8 issues of WI Life magazine.\nVisitors are allowed 3 visits.  COME AND TRY US FOR THREE POUNDS!
URL:https://www.red-house-albrighton.org.uk/event/albric-womens-institute-2/2029-05-08/
LOCATION:The Red House\, Albrighton\, Shropshire\, WV7 3LU\, United Kingdom
CATEGORIES:Community Groups
END:VEVENT
BEGIN:VEVENT
DTSTART;TZID=Europe/London:20290612T193000
DTEND;TZID=Europe/London:20290612T213000
DTSTAMP:20260421T184448
CREATED:20181213T202713Z
LAST-MODIFIED:20181213T202713Z
UID:10002997-1875987000-1875994200@www.red-house-albrighton.org.uk
SUMMARY:Albric Women's Institute
DESCRIPTION:Subscriptions are £41.00 a year which includes a monthly newsletter and 8 issues of WI Life magazine.\nVisitors are allowed 3 visits.  COME AND TRY US FOR THREE POUNDS!
URL:https://www.red-house-albrighton.org.uk/event/albric-womens-institute-2/2029-06-12/
LOCATION:The Red House\, Albrighton\, Shropshire\, WV7 3LU\, United Kingdom
CATEGORIES:Community Groups
END:VEVENT
BEGIN:VEVENT
DTSTART;TZID=Europe/London:20290710T193000
DTEND;TZID=Europe/London:20290710T213000
DTSTAMP:20260421T184448
CREATED:20181213T202713Z
LAST-MODIFIED:20181213T202713Z
UID:10002998-1878406200-1878413400@www.red-house-albrighton.org.uk
SUMMARY:Albric Women's Institute
DESCRIPTION:Subscriptions are £41.00 a year which includes a monthly newsletter and 8 issues of WI Life magazine.\nVisitors are allowed 3 visits.  COME AND TRY US FOR THREE POUNDS!
URL:https://www.red-house-albrighton.org.uk/event/albric-womens-institute-2/2029-07-10/
LOCATION:The Red House\, Albrighton\, Shropshire\, WV7 3LU\, United Kingdom
CATEGORIES:Community Groups
END:VEVENT
BEGIN:VEVENT
DTSTART;TZID=Europe/London:20290911T193000
DTEND;TZID=Europe/London:20290911T213000
DTSTAMP:20260421T184448
CREATED:20181213T202713Z
LAST-MODIFIED:20181213T202713Z
UID:10003078-1883849400-1883856600@www.red-house-albrighton.org.uk
SUMMARY:Albric Women's Institute
DESCRIPTION:Subscriptions are £41.00 a year which includes a monthly newsletter and 8 issues of WI Life magazine.\nVisitors are allowed 3 visits.  COME AND TRY US FOR THREE POUNDS!
URL:https://www.red-house-albrighton.org.uk/event/albric-womens-institute-2/2029-09-11/
LOCATION:The Red House\, Albrighton\, Shropshire\, WV7 3LU\, United Kingdom
CATEGORIES:Community Groups
END:VEVENT
BEGIN:VEVENT
DTSTART;TZID=Europe/London:20291009T193000
DTEND;TZID=Europe/London:20291009T213000
DTSTAMP:20260421T184448
CREATED:20181213T202713Z
LAST-MODIFIED:20181213T202713Z
UID:10003079-1886268600-1886275800@www.red-house-albrighton.org.uk
SUMMARY:Albric Women's Institute
DESCRIPTION:Subscriptions are £41.00 a year which includes a monthly newsletter and 8 issues of WI Life magazine.\nVisitors are allowed 3 visits.  COME AND TRY US FOR THREE POUNDS!
URL:https://www.red-house-albrighton.org.uk/event/albric-womens-institute-2/2029-10-09/
LOCATION:The Red House\, Albrighton\, Shropshire\, WV7 3LU\, United Kingdom
CATEGORIES:Community Groups
END:VEVENT
BEGIN:VEVENT
DTSTART;TZID=Europe/London:20291113T193000
DTEND;TZID=Europe/London:20291113T213000
DTSTAMP:20260421T184448
CREATED:20181213T202713Z
LAST-MODIFIED:20181213T202713Z
UID:10003080-1889292600-1889299800@www.red-house-albrighton.org.uk
SUMMARY:Albric Women's Institute
DESCRIPTION:Subscriptions are £41.00 a year which includes a monthly newsletter and 8 issues of WI Life magazine.\nVisitors are allowed 3 visits.  COME AND TRY US FOR THREE POUNDS!
URL:https://www.red-house-albrighton.org.uk/event/albric-womens-institute-2/2029-11-13/
LOCATION:The Red House\, Albrighton\, Shropshire\, WV7 3LU\, United Kingdom
CATEGORIES:Community Groups
END:VEVENT
BEGIN:VEVENT
DTSTART;TZID=Europe/London:20291211T193000
DTEND;TZID=Europe/London:20291211T213000
DTSTAMP:20260421T184448
CREATED:20181213T202713Z
LAST-MODIFIED:20181213T202713Z
UID:10003081-1891711800-1891719000@www.red-house-albrighton.org.uk
SUMMARY:Albric Women's Institute
DESCRIPTION:Subscriptions are £41.00 a year which includes a monthly newsletter and 8 issues of WI Life magazine.\nVisitors are allowed 3 visits.  COME AND TRY US FOR THREE POUNDS!
URL:https://www.red-house-albrighton.org.uk/event/albric-womens-institute-2/2029-12-11/
LOCATION:The Red House\, Albrighton\, Shropshire\, WV7 3LU\, United Kingdom
CATEGORIES:Community Groups
END:VEVENT
END:VCALENDAR