BEGIN:VCALENDAR
VERSION:2.0
PRODID:-//The Red House - ECPv6.15.15//NONSGML v1.0//EN
CALSCALE:GREGORIAN
METHOD:PUBLISH
X-WR-CALNAME:The Red House
X-ORIGINAL-URL:https://www.red-house-albrighton.org.uk
X-WR-CALDESC:Events for The Red House
REFRESH-INTERVAL;VALUE=DURATION:PT1H
X-Robots-Tag:noindex
X-PUBLISHED-TTL:PT1H
BEGIN:VTIMEZONE
TZID:Europe/London
BEGIN:DAYLIGHT
TZOFFSETFROM:+0000
TZOFFSETTO:+0100
TZNAME:BST
DTSTART:20190331T010000
END:DAYLIGHT
BEGIN:STANDARD
TZOFFSETFROM:+0100
TZOFFSETTO:+0000
TZNAME:GMT
DTSTART:20191027T010000
END:STANDARD
BEGIN:DAYLIGHT
TZOFFSETFROM:+0000
TZOFFSETTO:+0100
TZNAME:BST
DTSTART:20200329T010000
END:DAYLIGHT
BEGIN:STANDARD
TZOFFSETFROM:+0100
TZOFFSETTO:+0000
TZNAME:GMT
DTSTART:20201025T010000
END:STANDARD
BEGIN:DAYLIGHT
TZOFFSETFROM:+0000
TZOFFSETTO:+0100
TZNAME:BST
DTSTART:20210328T010000
END:DAYLIGHT
BEGIN:STANDARD
TZOFFSETFROM:+0100
TZOFFSETTO:+0000
TZNAME:GMT
DTSTART:20211031T010000
END:STANDARD
BEGIN:DAYLIGHT
TZOFFSETFROM:+0000
TZOFFSETTO:+0100
TZNAME:BST
DTSTART:20220327T010000
END:DAYLIGHT
BEGIN:STANDARD
TZOFFSETFROM:+0100
TZOFFSETTO:+0000
TZNAME:GMT
DTSTART:20221030T010000
END:STANDARD
BEGIN:DAYLIGHT
TZOFFSETFROM:+0000
TZOFFSETTO:+0100
TZNAME:BST
DTSTART:20230326T010000
END:DAYLIGHT
BEGIN:STANDARD
TZOFFSETFROM:+0100
TZOFFSETTO:+0000
TZNAME:GMT
DTSTART:20231029T010000
END:STANDARD
BEGIN:DAYLIGHT
TZOFFSETFROM:+0000
TZOFFSETTO:+0100
TZNAME:BST
DTSTART:20240331T010000
END:DAYLIGHT
BEGIN:STANDARD
TZOFFSETFROM:+0100
TZOFFSETTO:+0000
TZNAME:GMT
DTSTART:20241027T010000
END:STANDARD
END:VTIMEZONE
BEGIN:VEVENT
DTSTART;TZID=Europe/London:20230711T193000
DTEND;TZID=Europe/London:20230711T213000
DTSTAMP:20260423T124411
CREATED:20181213T202713Z
LAST-MODIFIED:20181213T202713Z
UID:10001498-1689103800-1689111000@www.red-house-albrighton.org.uk
SUMMARY:Albric Women's Institute
DESCRIPTION:Subscriptions are £41.00 a year which includes a monthly newsletter and 8 issues of WI Life magazine.\nVisitors are allowed 3 visits.  COME AND TRY US FOR THREE POUNDS!
URL:https://www.red-house-albrighton.org.uk/event/albric-womens-institute-2/2023-07-11/
LOCATION:The Red House\, Albrighton\, Shropshire\, WV7 3LU\, United Kingdom
CATEGORIES:Community Groups
END:VEVENT
BEGIN:VEVENT
DTSTART;TZID=Europe/London:20230613T193000
DTEND;TZID=Europe/London:20230613T213000
DTSTAMP:20260423T124411
CREATED:20181213T202713Z
LAST-MODIFIED:20181213T202713Z
UID:10001497-1686684600-1686691800@www.red-house-albrighton.org.uk
SUMMARY:Albric Women's Institute
DESCRIPTION:Subscriptions are £41.00 a year which includes a monthly newsletter and 8 issues of WI Life magazine.\nVisitors are allowed 3 visits.  COME AND TRY US FOR THREE POUNDS!
URL:https://www.red-house-albrighton.org.uk/event/albric-womens-institute-2/2023-06-13/
LOCATION:The Red House\, Albrighton\, Shropshire\, WV7 3LU\, United Kingdom
CATEGORIES:Community Groups
END:VEVENT
BEGIN:VEVENT
DTSTART;TZID=Europe/London:20230509T193000
DTEND;TZID=Europe/London:20230509T213000
DTSTAMP:20260423T124411
CREATED:20181213T202713Z
LAST-MODIFIED:20181213T202713Z
UID:10001496-1683660600-1683667800@www.red-house-albrighton.org.uk
SUMMARY:Albric Women's Institute
DESCRIPTION:Subscriptions are £41.00 a year which includes a monthly newsletter and 8 issues of WI Life magazine.\nVisitors are allowed 3 visits.  COME AND TRY US FOR THREE POUNDS!
URL:https://www.red-house-albrighton.org.uk/event/albric-womens-institute-2/2023-05-09/
LOCATION:The Red House\, Albrighton\, Shropshire\, WV7 3LU\, United Kingdom
CATEGORIES:Community Groups
END:VEVENT
BEGIN:VEVENT
DTSTART;TZID=Europe/London:20230411T193000
DTEND;TZID=Europe/London:20230411T213000
DTSTAMP:20260423T124411
CREATED:20181213T202713Z
LAST-MODIFIED:20181213T202713Z
UID:10001495-1681241400-1681248600@www.red-house-albrighton.org.uk
SUMMARY:Albric Women's Institute
DESCRIPTION:Subscriptions are £41.00 a year which includes a monthly newsletter and 8 issues of WI Life magazine.\nVisitors are allowed 3 visits.  COME AND TRY US FOR THREE POUNDS!
URL:https://www.red-house-albrighton.org.uk/event/albric-womens-institute-2/2023-04-11/
LOCATION:The Red House\, Albrighton\, Shropshire\, WV7 3LU\, United Kingdom
CATEGORIES:Community Groups
END:VEVENT
BEGIN:VEVENT
DTSTART;TZID=Europe/London:20230314T193000
DTEND;TZID=Europe/London:20230314T213000
DTSTAMP:20260423T124411
CREATED:20181213T202713Z
LAST-MODIFIED:20181213T202713Z
UID:10001494-1678822200-1678829400@www.red-house-albrighton.org.uk
SUMMARY:Albric Women's Institute
DESCRIPTION:Subscriptions are £41.00 a year which includes a monthly newsletter and 8 issues of WI Life magazine.\nVisitors are allowed 3 visits.  COME AND TRY US FOR THREE POUNDS!
URL:https://www.red-house-albrighton.org.uk/event/albric-womens-institute-2/2023-03-14/
LOCATION:The Red House\, Albrighton\, Shropshire\, WV7 3LU\, United Kingdom
CATEGORIES:Community Groups
END:VEVENT
BEGIN:VEVENT
DTSTART;TZID=Europe/London:20230214T193000
DTEND;TZID=Europe/London:20230214T213000
DTSTAMP:20260423T124411
CREATED:20181213T202713Z
LAST-MODIFIED:20181213T202713Z
UID:10001493-1676403000-1676410200@www.red-house-albrighton.org.uk
SUMMARY:Albric Women's Institute
DESCRIPTION:Subscriptions are £41.00 a year which includes a monthly newsletter and 8 issues of WI Life magazine.\nVisitors are allowed 3 visits.  COME AND TRY US FOR THREE POUNDS!
URL:https://www.red-house-albrighton.org.uk/event/albric-womens-institute-2/2023-02-14/
LOCATION:The Red House\, Albrighton\, Shropshire\, WV7 3LU\, United Kingdom
CATEGORIES:Community Groups
END:VEVENT
BEGIN:VEVENT
DTSTART;TZID=Europe/London:20230110T193000
DTEND;TZID=Europe/London:20230110T213000
DTSTAMP:20260423T124411
CREATED:20181213T202713Z
LAST-MODIFIED:20181213T202713Z
UID:10001492-1673379000-1673386200@www.red-house-albrighton.org.uk
SUMMARY:Albric Women's Institute
DESCRIPTION:Subscriptions are £41.00 a year which includes a monthly newsletter and 8 issues of WI Life magazine.\nVisitors are allowed 3 visits.  COME AND TRY US FOR THREE POUNDS!
URL:https://www.red-house-albrighton.org.uk/event/albric-womens-institute-2/2023-01-10/
LOCATION:The Red House\, Albrighton\, Shropshire\, WV7 3LU\, United Kingdom
CATEGORIES:Community Groups
END:VEVENT
BEGIN:VEVENT
DTSTART;TZID=Europe/London:20221213T193000
DTEND;TZID=Europe/London:20221213T213000
DTSTAMP:20260423T124411
CREATED:20181213T202713Z
LAST-MODIFIED:20181213T202713Z
UID:10001491-1670959800-1670967000@www.red-house-albrighton.org.uk
SUMMARY:Albric Women's Institute
DESCRIPTION:Subscriptions are £41.00 a year which includes a monthly newsletter and 8 issues of WI Life magazine.\nVisitors are allowed 3 visits.  COME AND TRY US FOR THREE POUNDS!
URL:https://www.red-house-albrighton.org.uk/event/albric-womens-institute-2/2022-12-13/
LOCATION:The Red House\, Albrighton\, Shropshire\, WV7 3LU\, United Kingdom
CATEGORIES:Community Groups
END:VEVENT
BEGIN:VEVENT
DTSTART;TZID=Europe/London:20221108T193000
DTEND;TZID=Europe/London:20221108T213000
DTSTAMP:20260423T124411
CREATED:20181213T202713Z
LAST-MODIFIED:20181213T202713Z
UID:10001490-1667935800-1667943000@www.red-house-albrighton.org.uk
SUMMARY:Albric Women's Institute
DESCRIPTION:Subscriptions are £41.00 a year which includes a monthly newsletter and 8 issues of WI Life magazine.\nVisitors are allowed 3 visits.  COME AND TRY US FOR THREE POUNDS!
URL:https://www.red-house-albrighton.org.uk/event/albric-womens-institute-2/2022-11-08/
LOCATION:The Red House\, Albrighton\, Shropshire\, WV7 3LU\, United Kingdom
CATEGORIES:Community Groups
END:VEVENT
BEGIN:VEVENT
DTSTART;TZID=Europe/London:20221011T193000
DTEND;TZID=Europe/London:20221011T213000
DTSTAMP:20260423T124411
CREATED:20181213T202713Z
LAST-MODIFIED:20181213T202713Z
UID:10001489-1665516600-1665523800@www.red-house-albrighton.org.uk
SUMMARY:Albric Women's Institute
DESCRIPTION:Subscriptions are £41.00 a year which includes a monthly newsletter and 8 issues of WI Life magazine.\nVisitors are allowed 3 visits.  COME AND TRY US FOR THREE POUNDS!
URL:https://www.red-house-albrighton.org.uk/event/albric-womens-institute-2/2022-10-11/
LOCATION:The Red House\, Albrighton\, Shropshire\, WV7 3LU\, United Kingdom
CATEGORIES:Community Groups
END:VEVENT
BEGIN:VEVENT
DTSTART;TZID=Europe/London:20220913T193000
DTEND;TZID=Europe/London:20220913T213000
DTSTAMP:20260423T124411
CREATED:20181213T202713Z
LAST-MODIFIED:20181213T202713Z
UID:10001488-1663097400-1663104600@www.red-house-albrighton.org.uk
SUMMARY:Albric Women's Institute
DESCRIPTION:Subscriptions are £41.00 a year which includes a monthly newsletter and 8 issues of WI Life magazine.\nVisitors are allowed 3 visits.  COME AND TRY US FOR THREE POUNDS!
URL:https://www.red-house-albrighton.org.uk/event/albric-womens-institute-2/2022-09-13/
LOCATION:The Red House\, Albrighton\, Shropshire\, WV7 3LU\, United Kingdom
CATEGORIES:Community Groups
END:VEVENT
BEGIN:VEVENT
DTSTART;TZID=Europe/London:20220712T193000
DTEND;TZID=Europe/London:20220712T213000
DTSTAMP:20260423T124411
CREATED:20181213T202713Z
LAST-MODIFIED:20181213T202713Z
UID:10001487-1657654200-1657661400@www.red-house-albrighton.org.uk
SUMMARY:Albric Women's Institute
DESCRIPTION:Subscriptions are £41.00 a year which includes a monthly newsletter and 8 issues of WI Life magazine.\nVisitors are allowed 3 visits.  COME AND TRY US FOR THREE POUNDS!
URL:https://www.red-house-albrighton.org.uk/event/albric-womens-institute-2/2022-07-12/
LOCATION:The Red House\, Albrighton\, Shropshire\, WV7 3LU\, United Kingdom
CATEGORIES:Community Groups
END:VEVENT
BEGIN:VEVENT
DTSTART;TZID=Europe/London:20220614T193000
DTEND;TZID=Europe/London:20220614T213000
DTSTAMP:20260423T124411
CREATED:20181213T202713Z
LAST-MODIFIED:20181213T202713Z
UID:10001486-1655235000-1655242200@www.red-house-albrighton.org.uk
SUMMARY:Albric Women's Institute
DESCRIPTION:Subscriptions are £41.00 a year which includes a monthly newsletter and 8 issues of WI Life magazine.\nVisitors are allowed 3 visits.  COME AND TRY US FOR THREE POUNDS!
URL:https://www.red-house-albrighton.org.uk/event/albric-womens-institute-2/2022-06-14/
LOCATION:The Red House\, Albrighton\, Shropshire\, WV7 3LU\, United Kingdom
CATEGORIES:Community Groups
END:VEVENT
BEGIN:VEVENT
DTSTART;TZID=Europe/London:20220510T193000
DTEND;TZID=Europe/London:20220510T213000
DTSTAMP:20260423T124411
CREATED:20181213T202713Z
LAST-MODIFIED:20181213T202713Z
UID:10001485-1652211000-1652218200@www.red-house-albrighton.org.uk
SUMMARY:Albric Women's Institute
DESCRIPTION:Subscriptions are £41.00 a year which includes a monthly newsletter and 8 issues of WI Life magazine.\nVisitors are allowed 3 visits.  COME AND TRY US FOR THREE POUNDS!
URL:https://www.red-house-albrighton.org.uk/event/albric-womens-institute-2/2022-05-10/
LOCATION:The Red House\, Albrighton\, Shropshire\, WV7 3LU\, United Kingdom
CATEGORIES:Community Groups
END:VEVENT
BEGIN:VEVENT
DTSTART;TZID=Europe/London:20220412T193000
DTEND;TZID=Europe/London:20220412T213000
DTSTAMP:20260423T124411
CREATED:20181213T202713Z
LAST-MODIFIED:20181213T202713Z
UID:10001484-1649791800-1649799000@www.red-house-albrighton.org.uk
SUMMARY:Albric Women's Institute
DESCRIPTION:Subscriptions are £41.00 a year which includes a monthly newsletter and 8 issues of WI Life magazine.\nVisitors are allowed 3 visits.  COME AND TRY US FOR THREE POUNDS!
URL:https://www.red-house-albrighton.org.uk/event/albric-womens-institute-2/2022-04-12/
LOCATION:The Red House\, Albrighton\, Shropshire\, WV7 3LU\, United Kingdom
CATEGORIES:Community Groups
END:VEVENT
BEGIN:VEVENT
DTSTART;TZID=Europe/London:20220308T193000
DTEND;TZID=Europe/London:20220308T213000
DTSTAMP:20260423T124411
CREATED:20181213T202713Z
LAST-MODIFIED:20181213T202713Z
UID:10001483-1646767800-1646775000@www.red-house-albrighton.org.uk
SUMMARY:Albric Women's Institute
DESCRIPTION:Subscriptions are £41.00 a year which includes a monthly newsletter and 8 issues of WI Life magazine.\nVisitors are allowed 3 visits.  COME AND TRY US FOR THREE POUNDS!
URL:https://www.red-house-albrighton.org.uk/event/albric-womens-institute-2/2022-03-08/
LOCATION:The Red House\, Albrighton\, Shropshire\, WV7 3LU\, United Kingdom
CATEGORIES:Community Groups
END:VEVENT
BEGIN:VEVENT
DTSTART;TZID=Europe/London:20220208T193000
DTEND;TZID=Europe/London:20220208T213000
DTSTAMP:20260423T124411
CREATED:20181213T202713Z
LAST-MODIFIED:20181213T202713Z
UID:10001482-1644348600-1644355800@www.red-house-albrighton.org.uk
SUMMARY:Albric Women's Institute
DESCRIPTION:Subscriptions are £41.00 a year which includes a monthly newsletter and 8 issues of WI Life magazine.\nVisitors are allowed 3 visits.  COME AND TRY US FOR THREE POUNDS!
URL:https://www.red-house-albrighton.org.uk/event/albric-womens-institute-2/2022-02-08/
LOCATION:The Red House\, Albrighton\, Shropshire\, WV7 3LU\, United Kingdom
CATEGORIES:Community Groups
END:VEVENT
BEGIN:VEVENT
DTSTART;TZID=Europe/London:20220111T193000
DTEND;TZID=Europe/London:20220111T213000
DTSTAMP:20260423T124411
CREATED:20181213T202713Z
LAST-MODIFIED:20181213T202713Z
UID:10001481-1641929400-1641936600@www.red-house-albrighton.org.uk
SUMMARY:Albric Women's Institute
DESCRIPTION:Subscriptions are £41.00 a year which includes a monthly newsletter and 8 issues of WI Life magazine.\nVisitors are allowed 3 visits.  COME AND TRY US FOR THREE POUNDS!
URL:https://www.red-house-albrighton.org.uk/event/albric-womens-institute-2/2022-01-11/
LOCATION:The Red House\, Albrighton\, Shropshire\, WV7 3LU\, United Kingdom
CATEGORIES:Community Groups
END:VEVENT
BEGIN:VEVENT
DTSTART;TZID=Europe/London:20211214T193000
DTEND;TZID=Europe/London:20211214T213000
DTSTAMP:20260423T124411
CREATED:20181213T202713Z
LAST-MODIFIED:20181213T202713Z
UID:10001480-1639510200-1639517400@www.red-house-albrighton.org.uk
SUMMARY:Albric Women's Institute
DESCRIPTION:Subscriptions are £41.00 a year which includes a monthly newsletter and 8 issues of WI Life magazine.\nVisitors are allowed 3 visits.  COME AND TRY US FOR THREE POUNDS!
URL:https://www.red-house-albrighton.org.uk/event/albric-womens-institute-2/2021-12-14/
LOCATION:The Red House\, Albrighton\, Shropshire\, WV7 3LU\, United Kingdom
CATEGORIES:Community Groups
END:VEVENT
BEGIN:VEVENT
DTSTART;TZID=Europe/London:20211109T193000
DTEND;TZID=Europe/London:20211109T213000
DTSTAMP:20260423T124411
CREATED:20181213T202713Z
LAST-MODIFIED:20181213T202713Z
UID:10001479-1636486200-1636493400@www.red-house-albrighton.org.uk
SUMMARY:Albric Women's Institute
DESCRIPTION:Subscriptions are £41.00 a year which includes a monthly newsletter and 8 issues of WI Life magazine.\nVisitors are allowed 3 visits.  COME AND TRY US FOR THREE POUNDS!
URL:https://www.red-house-albrighton.org.uk/event/albric-womens-institute-2/2021-11-09/
LOCATION:The Red House\, Albrighton\, Shropshire\, WV7 3LU\, United Kingdom
CATEGORIES:Community Groups
END:VEVENT
BEGIN:VEVENT
DTSTART;TZID=Europe/London:20211012T193000
DTEND;TZID=Europe/London:20211012T213000
DTSTAMP:20260423T124411
CREATED:20181213T202713Z
LAST-MODIFIED:20181213T202713Z
UID:10001478-1634067000-1634074200@www.red-house-albrighton.org.uk
SUMMARY:Albric Women's Institute
DESCRIPTION:Subscriptions are £41.00 a year which includes a monthly newsletter and 8 issues of WI Life magazine.\nVisitors are allowed 3 visits.  COME AND TRY US FOR THREE POUNDS!
URL:https://www.red-house-albrighton.org.uk/event/albric-womens-institute-2/2021-10-12/
LOCATION:The Red House\, Albrighton\, Shropshire\, WV7 3LU\, United Kingdom
CATEGORIES:Community Groups
END:VEVENT
BEGIN:VEVENT
DTSTART;TZID=Europe/London:20210914T193000
DTEND;TZID=Europe/London:20210914T213000
DTSTAMP:20260423T124411
CREATED:20181213T202713Z
LAST-MODIFIED:20181213T202713Z
UID:10001477-1631647800-1631655000@www.red-house-albrighton.org.uk
SUMMARY:Albric Women's Institute
DESCRIPTION:Subscriptions are £41.00 a year which includes a monthly newsletter and 8 issues of WI Life magazine.\nVisitors are allowed 3 visits.  COME AND TRY US FOR THREE POUNDS!
URL:https://www.red-house-albrighton.org.uk/event/albric-womens-institute-2/2021-09-14/
LOCATION:The Red House\, Albrighton\, Shropshire\, WV7 3LU\, United Kingdom
CATEGORIES:Community Groups
END:VEVENT
BEGIN:VEVENT
DTSTART;TZID=Europe/London:20210713T193000
DTEND;TZID=Europe/London:20210713T213000
DTSTAMP:20260423T124411
CREATED:20181213T202713Z
LAST-MODIFIED:20181213T202713Z
UID:10001476-1626204600-1626211800@www.red-house-albrighton.org.uk
SUMMARY:Albric Women's Institute
DESCRIPTION:Subscriptions are £41.00 a year which includes a monthly newsletter and 8 issues of WI Life magazine.\nVisitors are allowed 3 visits.  COME AND TRY US FOR THREE POUNDS!
URL:https://www.red-house-albrighton.org.uk/event/albric-womens-institute-2/2021-07-13/
LOCATION:The Red House\, Albrighton\, Shropshire\, WV7 3LU\, United Kingdom
CATEGORIES:Community Groups
END:VEVENT
BEGIN:VEVENT
DTSTART;TZID=Europe/London:20210608T193000
DTEND;TZID=Europe/London:20210608T213000
DTSTAMP:20260423T124411
CREATED:20181213T202713Z
LAST-MODIFIED:20181213T202713Z
UID:10001475-1623180600-1623187800@www.red-house-albrighton.org.uk
SUMMARY:Albric Women's Institute
DESCRIPTION:Subscriptions are £41.00 a year which includes a monthly newsletter and 8 issues of WI Life magazine.\nVisitors are allowed 3 visits.  COME AND TRY US FOR THREE POUNDS!
URL:https://www.red-house-albrighton.org.uk/event/albric-womens-institute-2/2021-06-08/
LOCATION:The Red House\, Albrighton\, Shropshire\, WV7 3LU\, United Kingdom
CATEGORIES:Community Groups
END:VEVENT
BEGIN:VEVENT
DTSTART;TZID=Europe/London:20210511T193000
DTEND;TZID=Europe/London:20210511T213000
DTSTAMP:20260423T124411
CREATED:20181213T202713Z
LAST-MODIFIED:20181213T202713Z
UID:10001474-1620761400-1620768600@www.red-house-albrighton.org.uk
SUMMARY:Albric Women's Institute
DESCRIPTION:Subscriptions are £41.00 a year which includes a monthly newsletter and 8 issues of WI Life magazine.\nVisitors are allowed 3 visits.  COME AND TRY US FOR THREE POUNDS!
URL:https://www.red-house-albrighton.org.uk/event/albric-womens-institute-2/2021-05-11/
LOCATION:The Red House\, Albrighton\, Shropshire\, WV7 3LU\, United Kingdom
CATEGORIES:Community Groups
END:VEVENT
BEGIN:VEVENT
DTSTART;TZID=Europe/London:20210413T193000
DTEND;TZID=Europe/London:20210413T213000
DTSTAMP:20260423T124411
CREATED:20181213T202713Z
LAST-MODIFIED:20181213T202713Z
UID:10001473-1618342200-1618349400@www.red-house-albrighton.org.uk
SUMMARY:Albric Women's Institute
DESCRIPTION:Subscriptions are £41.00 a year which includes a monthly newsletter and 8 issues of WI Life magazine.\nVisitors are allowed 3 visits.  COME AND TRY US FOR THREE POUNDS!
URL:https://www.red-house-albrighton.org.uk/event/albric-womens-institute-2/2021-04-13/
LOCATION:The Red House\, Albrighton\, Shropshire\, WV7 3LU\, United Kingdom
CATEGORIES:Community Groups
END:VEVENT
BEGIN:VEVENT
DTSTART;TZID=Europe/London:20210309T193000
DTEND;TZID=Europe/London:20210309T213000
DTSTAMP:20260423T124411
CREATED:20181213T202713Z
LAST-MODIFIED:20181213T202713Z
UID:10001472-1615318200-1615325400@www.red-house-albrighton.org.uk
SUMMARY:Albric Women's Institute
DESCRIPTION:Subscriptions are £41.00 a year which includes a monthly newsletter and 8 issues of WI Life magazine.\nVisitors are allowed 3 visits.  COME AND TRY US FOR THREE POUNDS!
URL:https://www.red-house-albrighton.org.uk/event/albric-womens-institute-2/2021-03-09/
LOCATION:The Red House\, Albrighton\, Shropshire\, WV7 3LU\, United Kingdom
CATEGORIES:Community Groups
END:VEVENT
BEGIN:VEVENT
DTSTART;TZID=Europe/London:20210209T193000
DTEND;TZID=Europe/London:20210209T213000
DTSTAMP:20260423T124411
CREATED:20181213T202713Z
LAST-MODIFIED:20181213T202713Z
UID:10001471-1612899000-1612906200@www.red-house-albrighton.org.uk
SUMMARY:Albric Women's Institute
DESCRIPTION:Subscriptions are £41.00 a year which includes a monthly newsletter and 8 issues of WI Life magazine.\nVisitors are allowed 3 visits.  COME AND TRY US FOR THREE POUNDS!
URL:https://www.red-house-albrighton.org.uk/event/albric-womens-institute-2/2021-02-09/
LOCATION:The Red House\, Albrighton\, Shropshire\, WV7 3LU\, United Kingdom
CATEGORIES:Community Groups
END:VEVENT
BEGIN:VEVENT
DTSTART;TZID=Europe/London:20210112T193000
DTEND;TZID=Europe/London:20210112T213000
DTSTAMP:20260423T124411
CREATED:20181213T202713Z
LAST-MODIFIED:20181213T202713Z
UID:10001470-1610479800-1610487000@www.red-house-albrighton.org.uk
SUMMARY:Albric Women's Institute
DESCRIPTION:Subscriptions are £41.00 a year which includes a monthly newsletter and 8 issues of WI Life magazine.\nVisitors are allowed 3 visits.  COME AND TRY US FOR THREE POUNDS!
URL:https://www.red-house-albrighton.org.uk/event/albric-womens-institute-2/2021-01-12/
LOCATION:The Red House\, Albrighton\, Shropshire\, WV7 3LU\, United Kingdom
CATEGORIES:Community Groups
END:VEVENT
BEGIN:VEVENT
DTSTART;TZID=Europe/London:20201208T193000
DTEND;TZID=Europe/London:20201208T213000
DTSTAMP:20260423T124411
CREATED:20181213T202713Z
LAST-MODIFIED:20181213T202713Z
UID:10001469-1607455800-1607463000@www.red-house-albrighton.org.uk
SUMMARY:Albric Women's Institute
DESCRIPTION:Subscriptions are £41.00 a year which includes a monthly newsletter and 8 issues of WI Life magazine.\nVisitors are allowed 3 visits.  COME AND TRY US FOR THREE POUNDS!
URL:https://www.red-house-albrighton.org.uk/event/albric-womens-institute-2/2020-12-08/
LOCATION:The Red House\, Albrighton\, Shropshire\, WV7 3LU\, United Kingdom
CATEGORIES:Community Groups
END:VEVENT
END:VCALENDAR