BEGIN:VCALENDAR
VERSION:2.0
PRODID:-//The Red House - ECPv6.15.15//NONSGML v1.0//EN
CALSCALE:GREGORIAN
METHOD:PUBLISH
X-ORIGINAL-URL:https://www.red-house-albrighton.org.uk
X-WR-CALDESC:Events for The Red House
REFRESH-INTERVAL;VALUE=DURATION:PT1H
X-Robots-Tag:noindex
X-PUBLISHED-TTL:PT1H
BEGIN:VTIMEZONE
TZID:Europe/London
BEGIN:DAYLIGHT
TZOFFSETFROM:+0000
TZOFFSETTO:+0100
TZNAME:BST
DTSTART:20280326T010000
END:DAYLIGHT
BEGIN:STANDARD
TZOFFSETFROM:+0100
TZOFFSETTO:+0000
TZNAME:GMT
DTSTART:20281029T010000
END:STANDARD
BEGIN:DAYLIGHT
TZOFFSETFROM:+0000
TZOFFSETTO:+0100
TZNAME:BST
DTSTART:20290325T010000
END:DAYLIGHT
BEGIN:STANDARD
TZOFFSETFROM:+0100
TZOFFSETTO:+0000
TZNAME:GMT
DTSTART:20291028T010000
END:STANDARD
BEGIN:DAYLIGHT
TZOFFSETFROM:+0000
TZOFFSETTO:+0100
TZNAME:BST
DTSTART:20300331T010000
END:DAYLIGHT
BEGIN:STANDARD
TZOFFSETFROM:+0100
TZOFFSETTO:+0000
TZNAME:GMT
DTSTART:20301027T010000
END:STANDARD
BEGIN:DAYLIGHT
TZOFFSETFROM:+0000
TZOFFSETTO:+0100
TZNAME:BST
DTSTART:20310330T010000
END:DAYLIGHT
BEGIN:STANDARD
TZOFFSETFROM:+0100
TZOFFSETTO:+0000
TZNAME:GMT
DTSTART:20311026T010000
END:STANDARD
BEGIN:DAYLIGHT
TZOFFSETFROM:+0000
TZOFFSETTO:+0100
TZNAME:BST
DTSTART:20320328T010000
END:DAYLIGHT
BEGIN:STANDARD
TZOFFSETFROM:+0100
TZOFFSETTO:+0000
TZNAME:GMT
DTSTART:20321031T010000
END:STANDARD
END:VTIMEZONE
BEGIN:VEVENT
DTSTART;TZID=Europe/London:20290213T193000
DTEND;TZID=Europe/London:20290213T213000
DTSTAMP:20260423T110039
CREATED:20181213T202713Z
LAST-MODIFIED:20181213T202713Z
UID:10002739-1865705400-1865712600@www.red-house-albrighton.org.uk
SUMMARY:Albric Women's Institute
DESCRIPTION:Subscriptions are £41.00 a year which includes a monthly newsletter and 8 issues of WI Life magazine.\nVisitors are allowed 3 visits.  COME AND TRY US FOR THREE POUNDS!
URL:https://www.red-house-albrighton.org.uk/event/albric-womens-institute-2/2029-02-13/
LOCATION:The Red House\, Albrighton\, Shropshire\, WV7 3LU\, United Kingdom
CATEGORIES:Community Groups
END:VEVENT
BEGIN:VEVENT
DTSTART;TZID=Europe/London:20290313T193000
DTEND;TZID=Europe/London:20290313T213000
DTSTAMP:20260423T110039
CREATED:20181213T202713Z
LAST-MODIFIED:20181213T202713Z
UID:10002740-1868124600-1868131800@www.red-house-albrighton.org.uk
SUMMARY:Albric Women's Institute
DESCRIPTION:Subscriptions are £41.00 a year which includes a monthly newsletter and 8 issues of WI Life magazine.\nVisitors are allowed 3 visits.  COME AND TRY US FOR THREE POUNDS!
URL:https://www.red-house-albrighton.org.uk/event/albric-womens-institute-2/2029-03-13/
LOCATION:The Red House\, Albrighton\, Shropshire\, WV7 3LU\, United Kingdom
CATEGORIES:Community Groups
END:VEVENT
BEGIN:VEVENT
DTSTART;TZID=Europe/London:20290410T193000
DTEND;TZID=Europe/London:20290410T213000
DTSTAMP:20260423T110039
CREATED:20181213T202713Z
LAST-MODIFIED:20181213T202713Z
UID:10002741-1870543800-1870551000@www.red-house-albrighton.org.uk
SUMMARY:Albric Women's Institute
DESCRIPTION:Subscriptions are £41.00 a year which includes a monthly newsletter and 8 issues of WI Life magazine.\nVisitors are allowed 3 visits.  COME AND TRY US FOR THREE POUNDS!
URL:https://www.red-house-albrighton.org.uk/event/albric-womens-institute-2/2029-04-10/
LOCATION:The Red House\, Albrighton\, Shropshire\, WV7 3LU\, United Kingdom
CATEGORIES:Community Groups
END:VEVENT
BEGIN:VEVENT
DTSTART;TZID=Europe/London:20290508T193000
DTEND;TZID=Europe/London:20290508T213000
DTSTAMP:20260423T110039
CREATED:20181213T202713Z
LAST-MODIFIED:20181213T202713Z
UID:10002742-1872963000-1872970200@www.red-house-albrighton.org.uk
SUMMARY:Albric Women's Institute
DESCRIPTION:Subscriptions are £41.00 a year which includes a monthly newsletter and 8 issues of WI Life magazine.\nVisitors are allowed 3 visits.  COME AND TRY US FOR THREE POUNDS!
URL:https://www.red-house-albrighton.org.uk/event/albric-womens-institute-2/2029-05-08/
LOCATION:The Red House\, Albrighton\, Shropshire\, WV7 3LU\, United Kingdom
CATEGORIES:Community Groups
END:VEVENT
BEGIN:VEVENT
DTSTART;TZID=Europe/London:20290612T193000
DTEND;TZID=Europe/London:20290612T213000
DTSTAMP:20260423T110039
CREATED:20181213T202713Z
LAST-MODIFIED:20181213T202713Z
UID:10002997-1875987000-1875994200@www.red-house-albrighton.org.uk
SUMMARY:Albric Women's Institute
DESCRIPTION:Subscriptions are £41.00 a year which includes a monthly newsletter and 8 issues of WI Life magazine.\nVisitors are allowed 3 visits.  COME AND TRY US FOR THREE POUNDS!
URL:https://www.red-house-albrighton.org.uk/event/albric-womens-institute-2/2029-06-12/
LOCATION:The Red House\, Albrighton\, Shropshire\, WV7 3LU\, United Kingdom
CATEGORIES:Community Groups
END:VEVENT
BEGIN:VEVENT
DTSTART;TZID=Europe/London:20290710T193000
DTEND;TZID=Europe/London:20290710T213000
DTSTAMP:20260423T110039
CREATED:20181213T202713Z
LAST-MODIFIED:20181213T202713Z
UID:10002998-1878406200-1878413400@www.red-house-albrighton.org.uk
SUMMARY:Albric Women's Institute
DESCRIPTION:Subscriptions are £41.00 a year which includes a monthly newsletter and 8 issues of WI Life magazine.\nVisitors are allowed 3 visits.  COME AND TRY US FOR THREE POUNDS!
URL:https://www.red-house-albrighton.org.uk/event/albric-womens-institute-2/2029-07-10/
LOCATION:The Red House\, Albrighton\, Shropshire\, WV7 3LU\, United Kingdom
CATEGORIES:Community Groups
END:VEVENT
BEGIN:VEVENT
DTSTART;TZID=Europe/London:20290911T193000
DTEND;TZID=Europe/London:20290911T213000
DTSTAMP:20260423T110039
CREATED:20181213T202713Z
LAST-MODIFIED:20181213T202713Z
UID:10003078-1883849400-1883856600@www.red-house-albrighton.org.uk
SUMMARY:Albric Women's Institute
DESCRIPTION:Subscriptions are £41.00 a year which includes a monthly newsletter and 8 issues of WI Life magazine.\nVisitors are allowed 3 visits.  COME AND TRY US FOR THREE POUNDS!
URL:https://www.red-house-albrighton.org.uk/event/albric-womens-institute-2/2029-09-11/
LOCATION:The Red House\, Albrighton\, Shropshire\, WV7 3LU\, United Kingdom
CATEGORIES:Community Groups
END:VEVENT
BEGIN:VEVENT
DTSTART;TZID=Europe/London:20291009T193000
DTEND;TZID=Europe/London:20291009T213000
DTSTAMP:20260423T110039
CREATED:20181213T202713Z
LAST-MODIFIED:20181213T202713Z
UID:10003079-1886268600-1886275800@www.red-house-albrighton.org.uk
SUMMARY:Albric Women's Institute
DESCRIPTION:Subscriptions are £41.00 a year which includes a monthly newsletter and 8 issues of WI Life magazine.\nVisitors are allowed 3 visits.  COME AND TRY US FOR THREE POUNDS!
URL:https://www.red-house-albrighton.org.uk/event/albric-womens-institute-2/2029-10-09/
LOCATION:The Red House\, Albrighton\, Shropshire\, WV7 3LU\, United Kingdom
CATEGORIES:Community Groups
END:VEVENT
BEGIN:VEVENT
DTSTART;TZID=Europe/London:20291113T193000
DTEND;TZID=Europe/London:20291113T213000
DTSTAMP:20260423T110039
CREATED:20181213T202713Z
LAST-MODIFIED:20181213T202713Z
UID:10003080-1889292600-1889299800@www.red-house-albrighton.org.uk
SUMMARY:Albric Women's Institute
DESCRIPTION:Subscriptions are £41.00 a year which includes a monthly newsletter and 8 issues of WI Life magazine.\nVisitors are allowed 3 visits.  COME AND TRY US FOR THREE POUNDS!
URL:https://www.red-house-albrighton.org.uk/event/albric-womens-institute-2/2029-11-13/
LOCATION:The Red House\, Albrighton\, Shropshire\, WV7 3LU\, United Kingdom
CATEGORIES:Community Groups
END:VEVENT
BEGIN:VEVENT
DTSTART;TZID=Europe/London:20291211T193000
DTEND;TZID=Europe/London:20291211T213000
DTSTAMP:20260423T110039
CREATED:20181213T202713Z
LAST-MODIFIED:20181213T202713Z
UID:10003081-1891711800-1891719000@www.red-house-albrighton.org.uk
SUMMARY:Albric Women's Institute
DESCRIPTION:Subscriptions are £41.00 a year which includes a monthly newsletter and 8 issues of WI Life magazine.\nVisitors are allowed 3 visits.  COME AND TRY US FOR THREE POUNDS!
URL:https://www.red-house-albrighton.org.uk/event/albric-womens-institute-2/2029-12-11/
LOCATION:The Red House\, Albrighton\, Shropshire\, WV7 3LU\, United Kingdom
CATEGORIES:Community Groups
END:VEVENT
BEGIN:VEVENT
DTSTART;TZID=Europe/London:20300108T193000
DTEND;TZID=Europe/London:20300108T213000
DTSTAMP:20260423T110039
CREATED:20181213T202713Z
LAST-MODIFIED:20181213T202713Z
UID:10003082-1894131000-1894138200@www.red-house-albrighton.org.uk
SUMMARY:Albric Women's Institute
DESCRIPTION:Subscriptions are £41.00 a year which includes a monthly newsletter and 8 issues of WI Life magazine.\nVisitors are allowed 3 visits.  COME AND TRY US FOR THREE POUNDS!
URL:https://www.red-house-albrighton.org.uk/event/albric-womens-institute-2/2030-01-08/
LOCATION:The Red House\, Albrighton\, Shropshire\, WV7 3LU\, United Kingdom
CATEGORIES:Community Groups
END:VEVENT
BEGIN:VEVENT
DTSTART;TZID=Europe/London:20300212T193000
DTEND;TZID=Europe/London:20300212T213000
DTSTAMP:20260423T110039
CREATED:20181213T202713Z
LAST-MODIFIED:20181213T202713Z
UID:10003083-1897155000-1897162200@www.red-house-albrighton.org.uk
SUMMARY:Albric Women's Institute
DESCRIPTION:Subscriptions are £41.00 a year which includes a monthly newsletter and 8 issues of WI Life magazine.\nVisitors are allowed 3 visits.  COME AND TRY US FOR THREE POUNDS!
URL:https://www.red-house-albrighton.org.uk/event/albric-womens-institute-2/2030-02-12/
LOCATION:The Red House\, Albrighton\, Shropshire\, WV7 3LU\, United Kingdom
CATEGORIES:Community Groups
END:VEVENT
BEGIN:VEVENT
DTSTART;TZID=Europe/London:20300312T193000
DTEND;TZID=Europe/London:20300312T213000
DTSTAMP:20260423T110039
CREATED:20181213T202713Z
LAST-MODIFIED:20181213T202713Z
UID:10003084-1899574200-1899581400@www.red-house-albrighton.org.uk
SUMMARY:Albric Women's Institute
DESCRIPTION:Subscriptions are £41.00 a year which includes a monthly newsletter and 8 issues of WI Life magazine.\nVisitors are allowed 3 visits.  COME AND TRY US FOR THREE POUNDS!
URL:https://www.red-house-albrighton.org.uk/event/albric-womens-institute-2/2030-03-12/
LOCATION:The Red House\, Albrighton\, Shropshire\, WV7 3LU\, United Kingdom
CATEGORIES:Community Groups
END:VEVENT
BEGIN:VEVENT
DTSTART;TZID=Europe/London:20300409T193000
DTEND;TZID=Europe/London:20300409T213000
DTSTAMP:20260423T110039
CREATED:20181213T202713Z
LAST-MODIFIED:20181213T202713Z
UID:10003085-1901993400-1902000600@www.red-house-albrighton.org.uk
SUMMARY:Albric Women's Institute
DESCRIPTION:Subscriptions are £41.00 a year which includes a monthly newsletter and 8 issues of WI Life magazine.\nVisitors are allowed 3 visits.  COME AND TRY US FOR THREE POUNDS!
URL:https://www.red-house-albrighton.org.uk/event/albric-womens-institute-2/2030-04-09/
LOCATION:The Red House\, Albrighton\, Shropshire\, WV7 3LU\, United Kingdom
CATEGORIES:Community Groups
END:VEVENT
BEGIN:VEVENT
DTSTART;TZID=Europe/London:20300514T193000
DTEND;TZID=Europe/London:20300514T213000
DTSTAMP:20260423T110039
CREATED:20181213T202713Z
LAST-MODIFIED:20181213T202713Z
UID:10003086-1905017400-1905024600@www.red-house-albrighton.org.uk
SUMMARY:Albric Women's Institute
DESCRIPTION:Subscriptions are £41.00 a year which includes a monthly newsletter and 8 issues of WI Life magazine.\nVisitors are allowed 3 visits.  COME AND TRY US FOR THREE POUNDS!
URL:https://www.red-house-albrighton.org.uk/event/albric-womens-institute-2/2030-05-14/
LOCATION:The Red House\, Albrighton\, Shropshire\, WV7 3LU\, United Kingdom
CATEGORIES:Community Groups
END:VEVENT
BEGIN:VEVENT
DTSTART;TZID=Europe/London:20300611T193000
DTEND;TZID=Europe/London:20300611T213000
DTSTAMP:20260423T110039
CREATED:20181213T202713Z
LAST-MODIFIED:20181213T202713Z
UID:10003087-1907436600-1907443800@www.red-house-albrighton.org.uk
SUMMARY:Albric Women's Institute
DESCRIPTION:Subscriptions are £41.00 a year which includes a monthly newsletter and 8 issues of WI Life magazine.\nVisitors are allowed 3 visits.  COME AND TRY US FOR THREE POUNDS!
URL:https://www.red-house-albrighton.org.uk/event/albric-womens-institute-2/2030-06-11/
LOCATION:The Red House\, Albrighton\, Shropshire\, WV7 3LU\, United Kingdom
CATEGORIES:Community Groups
END:VEVENT
BEGIN:VEVENT
DTSTART;TZID=Europe/London:20300709T193000
DTEND;TZID=Europe/London:20300709T213000
DTSTAMP:20260423T110039
CREATED:20181213T202713Z
LAST-MODIFIED:20181213T202713Z
UID:10003088-1909855800-1909863000@www.red-house-albrighton.org.uk
SUMMARY:Albric Women's Institute
DESCRIPTION:Subscriptions are £41.00 a year which includes a monthly newsletter and 8 issues of WI Life magazine.\nVisitors are allowed 3 visits.  COME AND TRY US FOR THREE POUNDS!
URL:https://www.red-house-albrighton.org.uk/event/albric-womens-institute-2/2030-07-09/
LOCATION:The Red House\, Albrighton\, Shropshire\, WV7 3LU\, United Kingdom
CATEGORIES:Community Groups
END:VEVENT
BEGIN:VEVENT
DTSTART;TZID=Europe/London:20300910T193000
DTEND;TZID=Europe/London:20300910T213000
DTSTAMP:20260423T110039
CREATED:20181213T202713Z
LAST-MODIFIED:20181213T202713Z
UID:10003089-1915299000-1915306200@www.red-house-albrighton.org.uk
SUMMARY:Albric Women's Institute
DESCRIPTION:Subscriptions are £41.00 a year which includes a monthly newsletter and 8 issues of WI Life magazine.\nVisitors are allowed 3 visits.  COME AND TRY US FOR THREE POUNDS!
URL:https://www.red-house-albrighton.org.uk/event/albric-womens-institute-2/2030-09-10/
LOCATION:The Red House\, Albrighton\, Shropshire\, WV7 3LU\, United Kingdom
CATEGORIES:Community Groups
END:VEVENT
BEGIN:VEVENT
DTSTART;TZID=Europe/London:20301008T193000
DTEND;TZID=Europe/London:20301008T213000
DTSTAMP:20260423T110039
CREATED:20181213T202713Z
LAST-MODIFIED:20181213T202713Z
UID:10003090-1917718200-1917725400@www.red-house-albrighton.org.uk
SUMMARY:Albric Women's Institute
DESCRIPTION:Subscriptions are £41.00 a year which includes a monthly newsletter and 8 issues of WI Life magazine.\nVisitors are allowed 3 visits.  COME AND TRY US FOR THREE POUNDS!
URL:https://www.red-house-albrighton.org.uk/event/albric-womens-institute-2/2030-10-08/
LOCATION:The Red House\, Albrighton\, Shropshire\, WV7 3LU\, United Kingdom
CATEGORIES:Community Groups
END:VEVENT
BEGIN:VEVENT
DTSTART;TZID=Europe/London:20301112T193000
DTEND;TZID=Europe/London:20301112T213000
DTSTAMP:20260423T110039
CREATED:20181213T202713Z
LAST-MODIFIED:20181213T202713Z
UID:10003091-1920742200-1920749400@www.red-house-albrighton.org.uk
SUMMARY:Albric Women's Institute
DESCRIPTION:Subscriptions are £41.00 a year which includes a monthly newsletter and 8 issues of WI Life magazine.\nVisitors are allowed 3 visits.  COME AND TRY US FOR THREE POUNDS!
URL:https://www.red-house-albrighton.org.uk/event/albric-womens-institute-2/2030-11-12/
LOCATION:The Red House\, Albrighton\, Shropshire\, WV7 3LU\, United Kingdom
CATEGORIES:Community Groups
END:VEVENT
BEGIN:VEVENT
DTSTART;TZID=Europe/London:20301210T193000
DTEND;TZID=Europe/London:20301210T213000
DTSTAMP:20260423T110039
CREATED:20181213T202713Z
LAST-MODIFIED:20181213T202713Z
UID:10003092-1923161400-1923168600@www.red-house-albrighton.org.uk
SUMMARY:Albric Women's Institute
DESCRIPTION:Subscriptions are £41.00 a year which includes a monthly newsletter and 8 issues of WI Life magazine.\nVisitors are allowed 3 visits.  COME AND TRY US FOR THREE POUNDS!
URL:https://www.red-house-albrighton.org.uk/event/albric-womens-institute-2/2030-12-10/
LOCATION:The Red House\, Albrighton\, Shropshire\, WV7 3LU\, United Kingdom
CATEGORIES:Community Groups
END:VEVENT
BEGIN:VEVENT
DTSTART;TZID=Europe/London:20310114T193000
DTEND;TZID=Europe/London:20310114T213000
DTSTAMP:20260423T110039
CREATED:20181213T202713Z
LAST-MODIFIED:20181213T202713Z
UID:10003093-1926185400-1926192600@www.red-house-albrighton.org.uk
SUMMARY:Albric Women's Institute
DESCRIPTION:Subscriptions are £41.00 a year which includes a monthly newsletter and 8 issues of WI Life magazine.\nVisitors are allowed 3 visits.  COME AND TRY US FOR THREE POUNDS!
URL:https://www.red-house-albrighton.org.uk/event/albric-womens-institute-2/2031-01-14/
LOCATION:The Red House\, Albrighton\, Shropshire\, WV7 3LU\, United Kingdom
CATEGORIES:Community Groups
END:VEVENT
END:VCALENDAR