BEGIN:VCALENDAR
VERSION:2.0
PRODID:-//The Red House - ECPv6.15.15//NONSGML v1.0//EN
CALSCALE:GREGORIAN
METHOD:PUBLISH
X-ORIGINAL-URL:https://www.red-house-albrighton.org.uk
X-WR-CALDESC:Events for The Red House
REFRESH-INTERVAL;VALUE=DURATION:PT1H
X-Robots-Tag:noindex
X-PUBLISHED-TTL:PT1H
BEGIN:VTIMEZONE
TZID:Europe/London
BEGIN:DAYLIGHT
TZOFFSETFROM:+0000
TZOFFSETTO:+0100
TZNAME:BST
DTSTART:20220327T010000
END:DAYLIGHT
BEGIN:STANDARD
TZOFFSETFROM:+0100
TZOFFSETTO:+0000
TZNAME:GMT
DTSTART:20221030T010000
END:STANDARD
BEGIN:DAYLIGHT
TZOFFSETFROM:+0000
TZOFFSETTO:+0100
TZNAME:BST
DTSTART:20230326T010000
END:DAYLIGHT
BEGIN:STANDARD
TZOFFSETFROM:+0100
TZOFFSETTO:+0000
TZNAME:GMT
DTSTART:20231029T010000
END:STANDARD
BEGIN:DAYLIGHT
TZOFFSETFROM:+0000
TZOFFSETTO:+0100
TZNAME:BST
DTSTART:20240331T010000
END:DAYLIGHT
BEGIN:STANDARD
TZOFFSETFROM:+0100
TZOFFSETTO:+0000
TZNAME:GMT
DTSTART:20241027T010000
END:STANDARD
END:VTIMEZONE
BEGIN:VEVENT
DTSTART;TZID=Europe/London:20231009T141500
DTEND;TZID=Europe/London:20231009T170000
DTSTAMP:20260422T081600
CREATED:20230907T094427Z
LAST-MODIFIED:20230907T094427Z
UID:10002626-1696860900-1696870800@www.red-house-albrighton.org.uk
SUMMARY:Flicks in the Sticks - Empire of Light
DESCRIPTION:Hilary is a cinema manager struggling with her mental health\, and Stephen is a new employee longing to escape the provincial town where he faces daily adversity. \nTogether they find a sense of belonging and experience the healing power of music\, cinema\, and community.\nStarring: Olivia Colman\, Micheal Ward\, Colin Firth
URL:https://www.red-house-albrighton.org.uk/event/flicks-in-the-sticks-empire-of-light/
LOCATION:The Red House\, Albrighton\, Shropshire\, WV7 3LU\, United Kingdom
ATTACH;FMTTYPE=application/pdf:https://www.red-house-albrighton.org.uk/wp-content/uploads/2023/09/The-Red-House-Albrighton-Empire-Of-Light.pdf
ORGANIZER;CN="Albrighton Red House":MAILTO:info@red-house-albrighton.org.uk
END:VEVENT
END:VCALENDAR